BEGIN:VCALENDAR
PRODID:NingEventWidget-v1
VERSION:2.0
METHOD:PUBLISH
BEGIN:VTIMEZONE
TZID:America/Los_Angeles
X-LIC-LOCATION:America/Los_Angeles
BEGIN:DAYLIGHT
TZOFFSETFROM:-0800
TZOFFSETTO:-0700
TZNAME:PDT
DTSTART:19700308T020000
RRULE:FREQ=YEARLY;BYMONTH=3;BYDAY=2SU
END:DAYLIGHT
BEGIN:STANDARD
TZOFFSETFROM:-0700
TZOFFSETTO:-0800
TZNAME:PST
DTSTART:19701101T020000
RRULE:FREQ=YEARLY;BYMONTH=11;BYDAY=1SU
END:STANDARD
END:VTIMEZONE
BEGIN:VEVENT
UID:1464587:Event:32677
DTSTAMP:20260420T194441Z
SUMMARY:Happy Feet ft. Bobbito & Rich Medina
DESCRIPTION:\n\nFor more information visit https://trueskool.com/event
 s/happy-feet-ft-bobbito-rich
DTSTART;TZID=America/Los_Angeles:20090522T220000
DTEND;TZID=America/Los_Angeles:20090523T020000
CATEGORIES:soul, funk, hip, hop, afro, beat
LOCATION:330 Ritch St., San Francisco, CA
WEBSITE:http://www.going.com/happyfeet
URL:http://www.going.com/happyfeet
CONTACT:
ORGANIZER:Fresco, Massive Selector & Om:Soul
ATTACH;FMTTYPE="image/jpeg":http://storage.ning.com/topology/rest/1.0/
 file/get/2247866488?profile=original
ATTENDEE;ROLE=REQ-PARTICIPANT;PARTSTAT=ACCEPTED;RSVP=TRUE;CN="Ren the 
 Vinyl Archaeologist":https://trueskool.com/profile/xh51jvilojur
END:VEVENT
END:VCALENDAR
