BEGIN:VCALENDAR
PRODID:NingEventWidget-v1
VERSION:2.0
METHOD:PUBLISH
BEGIN:VTIMEZONE
TZID:America/Los_Angeles
X-LIC-LOCATION:America/Los_Angeles
BEGIN:DAYLIGHT
TZOFFSETFROM:-0800
TZOFFSETTO:-0700
TZNAME:PDT
DTSTART:19700308T020000
RRULE:FREQ=YEARLY;BYMONTH=3;BYDAY=2SU
END:DAYLIGHT
BEGIN:STANDARD
TZOFFSETFROM:-0700
TZOFFSETTO:-0800
TZNAME:PST
DTSTART:19701101T020000
RRULE:FREQ=YEARLY;BYMONTH=11;BYDAY=1SU
END:STANDARD
END:VTIMEZONE
BEGIN:VEVENT
UID:1464587:Event:301501
DTSTAMP:20260421T020717Z
SUMMARY:Hand to Mouth - SF Sketchfest Edition
DESCRIPTION:Trevor Hill presents Hand to Mouth: a monthly, topic-bas
 ed comedy show where each edition explores a specific social, cultural
  or political issue. One show, one topic.\n\nFebruary’s Topic: Obses
 sion!\n\nOn Friday 2/7, Matt Ingebretson, Nina Manni, Gavin Stephens, 
 Rob Schultz, Tommy Dassalo and Scott Vermeire will join Trevor in ex
 ploring obsessions, addictions, compulsions, one track minds, hang-ups
 , fascinations, fixations and fandom.\n\nIn teaming with SF Sketchfest
 , Hand to Mouth will not be taking place at its usual venue on 2/7, 
 but will be held at Lost Weekend Video for a special 10:00pm show.\n\n
 Hand to Mouth: Obsession\nSF Sketchfest Edition\nFriday, February 7th 
 @ 10:00PM\nLost Weekend Video (1034 Valencia)\nCover: $15\n\nTickets:\
 nwww.handtomouthcomedy.com\nwww.sfsketchfest.com/x/performers/hand-to-
 mouth\n\nFor more information visit https://trueskool.com/events/hand-
 to-mouth-sf-sketchfest-edition-1
DTSTART;TZID=America/Los_Angeles:20140207T220000
DTEND;TZID=America/Los_Angeles:20140207T231500
CATEGORIES:san, francisco
LOCATION:Lost Weekend Video
WEBSITE:http://handtomouthcomedy.com
URL:http://handtomouthcomedy.com
CONTACT:415.643.3373
ORGANIZER;CN="Trevor Hill":https://trueskool.com/profile/TrevorHill
ATTACH;FMTTYPE="image/jpeg":http://storage.ning.com/topology/rest/1.0/
 file/get/2247956782?profile=original
ATTENDEE;ROLE=REQ-PARTICIPANT;PARTSTAT=ACCEPTED;RSVP=TRUE;CN="Trevor H
 ill":https://trueskool.com/profile/TrevorHill
END:VEVENT
END:VCALENDAR
