BEGIN:VCALENDAR
PRODID:NingEventWidget-v1
VERSION:2.0
METHOD:PUBLISH
BEGIN:VTIMEZONE
TZID:America/Los_Angeles
X-LIC-LOCATION:America/Los_Angeles
BEGIN:DAYLIGHT
TZOFFSETFROM:-0800
TZOFFSETTO:-0700
TZNAME:PDT
DTSTART:19700308T020000
RRULE:FREQ=YEARLY;BYMONTH=3;BYDAY=2SU
END:DAYLIGHT
BEGIN:STANDARD
TZOFFSETFROM:-0700
TZOFFSETTO:-0800
TZNAME:PST
DTSTART:19701101T020000
RRULE:FREQ=YEARLY;BYMONTH=11;BYDAY=1SU
END:STANDARD
END:VTIMEZONE
BEGIN:VEVENT
UID:1464587:Event:153968
DTSTAMP:20260421T064626Z
SUMMARY:Hand to Mouth Comedy
DESCRIPTION:Comedy. Live in Concert!\nJames Fluty and Trevor Hill pres
 ent ‘Hand to Mouth’: a monthly, topic-based comedy show where each
  edition explores a specific social, cultural or political issue. One 
 show, one topic.\nJanuary’s Topic: Music!\nOn January 4th, James and
  Trevor will be joined by DJ Real (music/comedy/art), the Unwatchables
  (sketch) and stand-up comedians Jesse Elias, George Chen, Neel Nanda 
 and Tushar Singh. Together they will proceed to poke fun at an immeasu
 rably more successful and popular art form than comedy. Take that Jay-
 Z! No musical genre will be spared from their derision: psychobilly, i
 llbient, psyprog, J-pop, K-pop, JFK-pop, crunkcoustic, pre-post-punk, 
 laptronica, nu-gazer, steamo, pubstep, shartcore and contemporary chri
 stian. No sound is safe.\n$5 Advance, $8 Door\nInfo: http://handtomout
 hcomedy.comTix:  http://handtomouthcomedy.com\n\nFor more information
  visit https://trueskool.com/events/hand-to-mouth-comedy
DTSTART;TZID=America/Los_Angeles:20130104T220000
DTEND;TZID=America/Los_Angeles:20130104T233000
CATEGORIES:san, francisco, ca
LOCATION:Dark Room Theater
WEBSITE:http://handtomouthcomedy.com
URL:http://handtomouthcomedy.com
CONTACT:8313457599
ORGANIZER;CN="Trevor Hill":https://trueskool.com/profile/TrevorHill
ATTACH;FMTTYPE="image/jpeg":http://storage.ning.com/topology/rest/1.0/
 file/get/2247932576?profile=original
ATTENDEE;ROLE=REQ-PARTICIPANT;PARTSTAT=ACCEPTED;RSVP=TRUE;CN="Trevor H
 ill":https://trueskool.com/profile/TrevorHill
END:VEVENT
END:VCALENDAR
