BEGIN:VCALENDAR
PRODID:NingEventWidget-v1
VERSION:2.0
METHOD:PUBLISH
BEGIN:VTIMEZONE
TZID:America/Los_Angeles
X-LIC-LOCATION:America/Los_Angeles
BEGIN:DAYLIGHT
TZOFFSETFROM:-0800
TZOFFSETTO:-0700
TZNAME:PDT
DTSTART:19700308T020000
RRULE:FREQ=YEARLY;BYMONTH=3;BYDAY=2SU
END:DAYLIGHT
BEGIN:STANDARD
TZOFFSETFROM:-0700
TZOFFSETTO:-0800
TZNAME:PST
DTSTART:19701101T020000
RRULE:FREQ=YEARLY;BYMONTH=11;BYDAY=1SU
END:STANDARD
END:VTIMEZONE
BEGIN:VEVENT
UID:1464587:Event:324305
DTSTAMP:20260421T065735Z
SUMMARY:Hand to Mouth Comedy
DESCRIPTION:Trevor Hill presents Hand to Mouth: a monthly, topic-bas
 ed comedy show where each edition explores a specific social, cultural
  or political issue. One show, one topic.\n\nMarch’s Topic: Lies!\n\
 nOn Friday 3/21, comedians Greg Edwards (Thug Notes), Andy Sell (Laug
 h Track Comedy Fest), Bert DiVietri (SF Sketchfest), Scott Simpson (F
 un Times w/ Friends), Jane Harrison (Lost Weekend) and Justin Gomes (
 Sylvan Productions) will join Trevor in discussing lies, tall tales, f
 alsehoods, fibs, trickery, cheating, perjury, distortions, duplicity a
 nd double-dealing. It's going to be an amazing show. Or is it? Serious
 ly it is though.\n\nHand to Mouth: Lies\nFriday, March 21st @ 9:00PM\n
 Cinecave @ Lost Weekend Video (1034 Valencia St.)\nCover: $10\n\nInfo:
  www.handtomouthcomedy.com\nTix:  www.hand2mouth.eventbrite.com\n\nEv
 ery Third Friday of the Month!\n\nFor more information visit https://t
 rueskool.com/events/hand-to-mouth-comedy-9
DTSTART;TZID=America/Los_Angeles:20140321T210000
DTEND;TZID=America/Los_Angeles:20140321T223000
CATEGORIES:san, francisco
LOCATION:Lost Weekend Video
WEBSITE:
URL:
CONTACT:415.643.3373
ORGANIZER;CN="Trevor Hill":https://trueskool.com/profile/TrevorHill
ATTACH;FMTTYPE="image/jpeg":http://storage.ning.com/topology/rest/1.0/
 file/get/2247958958?profile=original
ATTENDEE;ROLE=REQ-PARTICIPANT;PARTSTAT=ACCEPTED;RSVP=TRUE;CN="Trevor H
 ill":https://trueskool.com/profile/TrevorHill
END:VEVENT
END:VCALENDAR
