BEGIN:VCALENDAR
PRODID:NingEventWidget-v1
VERSION:2.0
METHOD:PUBLISH
BEGIN:VTIMEZONE
TZID:America/Los_Angeles
X-LIC-LOCATION:America/Los_Angeles
BEGIN:DAYLIGHT
TZOFFSETFROM:-0800
TZOFFSETTO:-0700
TZNAME:PDT
DTSTART:19700308T020000
RRULE:FREQ=YEARLY;BYMONTH=3;BYDAY=2SU
END:DAYLIGHT
BEGIN:STANDARD
TZOFFSETFROM:-0700
TZOFFSETTO:-0800
TZNAME:PST
DTSTART:19701101T020000
RRULE:FREQ=YEARLY;BYMONTH=11;BYDAY=1SU
END:STANDARD
END:VTIMEZONE
BEGIN:VEVENT
UID:1464587:Event:53182
DTSTAMP:20260420T194320Z
SUMMARY:Gza Plus Special Guests
DESCRIPTION:Gza\nplus special guests\nThursday April 22nd\n\nShattuck 
 Downlow, 2484 Shattuck Ave., Berkeley\ndoors at 9pm\ntickets $17\nBuy 
 Tickets:\n\n\n\n\nFor more information visit https://trueskool.com/eve
 nts/gza-plus-special-guests
DTSTART;TZID=America/Los_Angeles:20100422T210000
DTEND;TZID=America/Los_Angeles:20100423T020000
CATEGORIES:hip, hop
LOCATION:Shattuck Down Low, Berkeley, CA
WEBSITE:http://ineffablerecords.inticketing.com/events/83036/GZA--Geni
 us
URL:http://ineffablerecords.inticketing.com/events/83036/GZA--Genius
CONTACT:
ORGANIZER;CN="Editor's Pick":https://trueskool.com/profile/RentheVinyl
 Archaeologist
ATTACH;FMTTYPE="image/jpeg":http://storage.ning.com/topology/rest/1.0/
 file/get/2247876398?profile=original
ATTENDEE;ROLE=REQ-PARTICIPANT;PARTSTAT=ACCEPTED;RSVP=TRUE;CN="caramel 
 queen":https://trueskool.com/profile/caramelqueen
ATTENDEE;ROLE=REQ-PARTICIPANT;PARTSTAT=ACCEPTED;RSVP=TRUE;CN="Editor's
  Pick":https://trueskool.com/profile/RentheVinylArchaeologist
END:VEVENT
END:VCALENDAR
