BEGIN:VCALENDAR
PRODID:NingEventWidget-v1
VERSION:2.0
METHOD:PUBLISH
BEGIN:VTIMEZONE
TZID:America/Los_Angeles
X-LIC-LOCATION:America/Los_Angeles
BEGIN:DAYLIGHT
TZOFFSETFROM:-0800
TZOFFSETTO:-0700
TZNAME:PDT
DTSTART:19700308T020000
RRULE:FREQ=YEARLY;BYMONTH=3;BYDAY=2SU
END:DAYLIGHT
BEGIN:STANDARD
TZOFFSETFROM:-0700
TZOFFSETTO:-0800
TZNAME:PST
DTSTART:19701101T020000
RRULE:FREQ=YEARLY;BYMONTH=11;BYDAY=1SU
END:STANDARD
END:VTIMEZONE
BEGIN:VEVENT
UID:1464587:Event:673422
DTSTAMP:20260421T065735Z
SUMMARY:GTA's 3 NIGHT STAND
DESCRIPTION: THURSDAY-SATURDAY, MAR 8-10 DJ DIALS & 1015 Folsom presen
 t GTA's 3 NIGHT STAND\r\n3x Distinct Experiences - 3x Nights\r\nThursd
 ay 3.08 // 10pm - 2am // House+Techno Friday 3.09 // 10pm - 3am // Moo
 mbah+Club+World Saturday 3.10 // 10pm - 3am // Rap+Trap+Bass\r\nFeatur
 ing GTA  playing a global bass, moombah, and club set\r\nfeaturing sup
 port from J BOOGIE NINA SOL LADY RYAN IZZY WIZE\r\n\r\n@ 1015, San Fra
 ncisco 10PM - 3AM / 21+\r\nUse this special discount link for FREE Adm
 ission:\r\nhttps://gta1015.eventbrite.com?discount=TRUESKOOL **Only (3
 00) Tickets Avail**\r\nDeath To Genres. A call to action that GTA and 
 their fans have been living and breathing since day 1. As a testament 
 to this genres-melding mantra, GTA is rolling out a new concept for th
 eir live show that will allow fans to enjoy a more extensive death to 
 genres experience.\r\nThree distinct colors will represent a set of sp
 ecific genres that GTA will be curating each night. Those colors are: 
 YELLOW: Moombah, Club and World; PURPLE: House and Techno; and RED: Ra
 p, Trap and Bass. GTA will dive deep into each of these genres, result
 ing in completely different and unique sets for every show.\r\nKicking
  off with a very intimate ‘3 Night Stand’ tour, GTA is set to perf
 orm a series of 3 nights in a row at 5 cities across the country this 
 February and March. This tour brings GTA to smaller cap venues to show
 case these newly curated shows. Always honing in on their undying comm
 itment to creative expression and pushing both themselves and their fa
 ns, GTA continues to set high standards for their music and live perfo
 rmances.\n\nFor more information visit https://trueskool.com/events/gt
 a-s-3-night-stand
DTSTART;TZID=America/Los_Angeles:20180308T220000
DTEND;TZID=America/Los_Angeles:20180310T030000
CATEGORIES:"bay area", "san francisco"
LOCATION:1015, San Francisco
WEBSITE:https://gta1015.eventbrite.com?discount=dialsguest
URL:https://gta1015.eventbrite.com?discount=dialsguest
CONTACT:
ORGANIZER:1015
ATTACH;FMTTYPE="image/jpeg":http://storage.ning.com/topology/rest/1.0/
 file/get/2248005457?profile=original
ATTENDEE;ROLE=REQ-PARTICIPANT;PARTSTAT=ACCEPTED;RSVP=TRUE;CN="Editor's
  Pick":https://trueskool.com/profile/RentheVinylArchaeologist
END:VEVENT
END:VCALENDAR
