BEGIN:VCALENDAR
PRODID:NingEventWidget-v1
VERSION:2.0
METHOD:PUBLISH
BEGIN:VTIMEZONE
TZID:America/Los_Angeles
X-LIC-LOCATION:America/Los_Angeles
BEGIN:DAYLIGHT
TZOFFSETFROM:-0800
TZOFFSETTO:-0700
TZNAME:PDT
DTSTART:19700308T020000
RRULE:FREQ=YEARLY;BYMONTH=3;BYDAY=2SU
END:DAYLIGHT
BEGIN:STANDARD
TZOFFSETFROM:-0700
TZOFFSETTO:-0800
TZNAME:PST
DTSTART:19701101T020000
RRULE:FREQ=YEARLY;BYMONTH=11;BYDAY=1SU
END:STANDARD
END:VTIMEZONE
BEGIN:VEVENT
UID:1464587:Event:266264
DTSTAMP:20260421T064524Z
SUMMARY:Groundation (WIN TICKETS)
DESCRIPTION:\n Tuesday,December 03 Groundation Pure Roots\nThe Indepen
 dent San Francisco, CA Show 9:00PM Purchase tickets\n\nFor more inform
 ation visit https://trueskool.com/events/groundation-win-tickets
DTSTART;TZID=America/Los_Angeles:20131203T210000
DTEND;TZID=America/Los_Angeles:20131203T230000
CATEGORIES:"bay area", "san francisco"
LOCATION:The Independent, SF
WEBSITE:http://www.ticketfly.com/purchase/event/388597?utm_medium=bks
URL:http://www.ticketfly.com/purchase/event/388597?utm_medium=bks
CONTACT:
ORGANIZER:Another Planet Ent
ATTACH;FMTTYPE="image/jpeg":http://storage.ning.com/topology/rest/1.0/
 file/get/2247952860?profile=original
ATTENDEE;ROLE=REQ-PARTICIPANT;PARTSTAT=ACCEPTED;RSVP=TRUE;CN="James Vl
 iet":https://trueskool.com/profile/JamesVliet
ATTENDEE;ROLE=REQ-PARTICIPANT;PARTSTAT=ACCEPTED;RSVP=TRUE;CN="Katrina 
 Shaw":https://trueskool.com/profile/KatrinaShaw
ATTENDEE;ROLE=REQ-PARTICIPANT;PARTSTAT=ACCEPTED;RSVP=TRUE;CN="Mike Bis
 hop":https://trueskool.com/profile/MikeBishop
ATTENDEE;ROLE=REQ-PARTICIPANT;PARTSTAT=ACCEPTED;RSVP=TRUE;CN="Staff Pi
 ck":https://trueskool.com/profile/Ren
END:VEVENT
END:VCALENDAR
