BEGIN:VCALENDAR
PRODID:NingEventWidget-v1
VERSION:2.0
METHOD:PUBLISH
BEGIN:VTIMEZONE
TZID:America/Los_Angeles
X-LIC-LOCATION:America/Los_Angeles
BEGIN:DAYLIGHT
TZOFFSETFROM:-0800
TZOFFSETTO:-0700
TZNAME:PDT
DTSTART:19700308T020000
RRULE:FREQ=YEARLY;BYMONTH=3;BYDAY=2SU
END:DAYLIGHT
BEGIN:STANDARD
TZOFFSETFROM:-0700
TZOFFSETTO:-0800
TZNAME:PST
DTSTART:19701101T020000
RRULE:FREQ=YEARLY;BYMONTH=11;BYDAY=1SU
END:STANDARD
END:VTIMEZONE
BEGIN:VEVENT
UID:1464587:Event:63387
DTSTAMP:20260420T224827Z
SUMMARY:Grouch
DESCRIPTION:\nThe Grouch (living legends)\nlive hip hop performances\n
 \n@ Shattuck Downlow, 2484 Shattuck Ave., Berkeley\nDoors 9pm, $15 Adv
 ance / $20 Doors\nBuy Tickets\n\n\nFor more information visit https://
 trueskool.com/events/grouch-1
DTSTART;TZID=America/Los_Angeles:20100812T210000
DTEND;TZID=America/Los_Angeles:20100813T020000
CATEGORIES:bay, area, berkeley, ca
LOCATION:Shattuck Downlow, Berkeley
WEBSITE:http://thegrouch.eventbrite.com/
URL:http://thegrouch.eventbrite.com/
CONTACT:
ORGANIZER:Shattuck Downlow
ATTACH;FMTTYPE="image/jpeg":http://storage.ning.com/topology/rest/1.0/
 file/get/2247882581?profile=original
ATTENDEE;ROLE=REQ-PARTICIPANT;PARTSTAT=ACCEPTED;RSVP=TRUE;CN="Ren the 
 Vinyl Archaeologist":https://trueskool.com/profile/xh51jvilojur
END:VEVENT
END:VCALENDAR
