BEGIN:VCALENDAR
PRODID:NingEventWidget-v1
VERSION:2.0
METHOD:PUBLISH
BEGIN:VTIMEZONE
TZID:America/Los_Angeles
X-LIC-LOCATION:America/Los_Angeles
BEGIN:DAYLIGHT
TZOFFSETFROM:-0800
TZOFFSETTO:-0700
TZNAME:PDT
DTSTART:19700308T020000
RRULE:FREQ=YEARLY;BYMONTH=3;BYDAY=2SU
END:DAYLIGHT
BEGIN:STANDARD
TZOFFSETFROM:-0700
TZOFFSETTO:-0800
TZNAME:PST
DTSTART:19701101T020000
RRULE:FREQ=YEARLY;BYMONTH=11;BYDAY=1SU
END:STANDARD
END:VTIMEZONE
BEGIN:VEVENT
UID:1464587:Event:661592
DTSTAMP:20260422T194542Z
SUMMARY:Groove Theory (Thursdays)
DESCRIPTION:Every Thursday DJ Natural brings you Groove Theory!R&B and
  Classic All Night help you Groove through your Thursday Night at John
  Colins. Join DJ Natural for Good Times and Grooves. Doors 10pm. For r
 eservations email: party@johncolins.com\n\nFor more information visit 
 https://trueskool.com/events/groove-theory-thursdays-2
DTSTART;TZID=America/Los_Angeles:20170420T213000
DTEND;TZID=America/Los_Angeles:20170421T013000
CATEGORIES:"san francisco", soma, "financial district"
LOCATION:JohnColins, San Francisco, CA
WEBSITE:http://johncolins.com/events/groove-theory/
URL:http://johncolins.com/events/groove-theory/
CONTACT:
ORGANIZER;CN=JohnColins:https://trueskool.com/profile/JohnColins27
ATTACH;FMTTYPE="image/jpeg":http://storage.ning.com/topology/rest/1.0/
 file/get/2247996287?profile=original
ATTENDEE;ROLE=REQ-PARTICIPANT;PARTSTAT=ACCEPTED;RSVP=TRUE;CN=JohnColin
 s:https://trueskool.com/profile/JohnColins27
END:VEVENT
END:VCALENDAR
