BEGIN:VCALENDAR
PRODID:NingEventWidget-v1
VERSION:2.0
METHOD:PUBLISH
BEGIN:VTIMEZONE
TZID:America/Los_Angeles
X-LIC-LOCATION:America/Los_Angeles
BEGIN:DAYLIGHT
TZOFFSETFROM:-0800
TZOFFSETTO:-0700
TZNAME:PDT
DTSTART:19700308T020000
RRULE:FREQ=YEARLY;BYMONTH=3;BYDAY=2SU
END:DAYLIGHT
BEGIN:STANDARD
TZOFFSETFROM:-0700
TZOFFSETTO:-0800
TZNAME:PST
DTSTART:19701101T020000
RRULE:FREQ=YEARLY;BYMONTH=11;BYDAY=1SU
END:STANDARD
END:VTIMEZONE
BEGIN:VEVENT
UID:1464587:Event:54850
DTSTAMP:20260421T081339Z
SUMMARY:GROOVE THEORY ~ Featuring the EARTHTONE DJ's!
DESCRIPTION:Come take a musical journey, into sound with DJ RYAN and a
 n exclusive set by the EARTHTONE DJ's (Chicago).\n\nThese womyn have r
 eunited to showcase their talents, creating a love vibe that begins wi
 th a harmonious neo-soul groove and ends with an explosive house clima
 x!\n\nThis gathering is for the groove lovers, dancers, breakers, and 
 jivers!\n\nCome join us Thursday, May 13th 2010 at SOMAR BAR & LOUNGE 
 (1727 Telegraph Ave./Oakland/between 17th & 18th St.)\n9pm-2am.\n\nThi
 s event is FREE, no cover.\nRSVP and pass the groove to a friend.\n\n\
 nEARTHTONE DJ's\n\nDJ S2 of the Earth Tone DJs (Chicago)\n\nRaised in 
 Chicago, DJ S2 has an eclectic musical library consisting of music fro
 m Louis Armstrong to Pink Floyd. She spins Neo-Soul, R&B, Top 40, Pop 
 and Mash-ups but her musical love is House. Growing up in Chicago she 
 could not refuse the influence and musical creativity of House icons s
 uch as Ron Hardy, Lil Louis, Ralphie Rosario, Frankie Knuckles, Farley
  and many other House music pioneers.\n\nDJ S2 is one of the founders 
 of Earth Tone DJs (an all female DJ crew and multimedia company). She 
 has held residency for \"AFTERGLOW\"at Cleos, and \"CHOPPED & SCREWED\
 " at Purgatory in Chicago.\n\nShe has also held guest spots at events 
 such as “ SOCIALFLARE” at Sura Bistro, “DRANKINʼ Nʼ JAMMIN\" a
 t Escape Lounge, “ARTLIFE II” at Studio E, ”SESSIONS” at Cherr
 y Red, \"CHICAGO DYKE MARCH COLLECTIVE\" at Evil Olive, and several \"
 CHICAGO DIRTY GIRL\" events at Lakeview Broadcasting Co./Spot 6/Angels
  and Kings, \"DOLL HOUSE\" at Wicker Well and ”FERAL FRIDAYS” at T
 he Zoo.\n\nDJ S2 and Earth Tone Productions have also promoted many su
 ccessful social events for women who love women in the city of Chicago
  such as “SPRING SWAGGER\", “CHOPPED & SCREWED\" and “V-DAY IN P
 URGATORY\" (to name a few).\n\n\n\nDJ Slum B. of the Earth Tone DJs (C
 hicago)\n\nOriginally from Northern California, DJ Slum B. pumps up th
 e volume with the smooth grooves of Neo-Soul and Hip Hop. She apprenti
 ced under DJ S2 studying Chicago House which provided an outlet for he
 r true love of Neo-Soul. After learning Chicago?s deep devotion to sou
 lful House, she then propelled a new form of Chi-town!/Bay Area fusion
 . She believes that a sense of belonging (which music provides) is wha
 t keeps people coming back for more. After years of extensive studies 
 in traditional arts, DJ Slum B. attended Brooks college in Sunnyvale, 
 California where she earned a degree in Graphic Design. She is current
 ly a Freelance Graphic Designer for a night life event promotion compa
 nies (Music-101.com) which hosted Green Dolphin?s “BOOM BOOM ROOM”
 , Vision Night Club?s “BASS+BEATS+RHYTHM”, La Pomme Rouge?s “RAD
 IO PARADISO”, Spy Bar?s “STYLUS”, and Debonair Social Club?s “
 PGFC”, Ladies Touch Entertainment in LA/Chicago, Pimp and Push Enter
 tainment, Luxe Entertainment, Chicago Dirty Girls, Art Life,\"Doll Hou
 se\" Wicker Well, Tomboi Swagg, Shelikesgirlz.com, & D'alliance Entert
 ainment. Her works have been published through Image Magazine, 5 Magaz
 ine, Boi Magazine, Gay Chicago Magazine, and Chicago Scene.\n\nDJ Slum
  B. is one of the co-founders of Earth Tone DJs (an all female DJ crew
  and multimedia company). She has held a residency for \"AFTERGLOW\" a
 t Cleos, Funky Buddha Lounge, and Soiree Bar/Bistro, \"LADIES TOUCH CH
 ICAGO\" at the Mix and \"CHOPPED AND SCREWED\" at Purgatory Pizza.\n\n
 She has also held guest spots at many local events such as “ SOCIAL 
 FLARE” at Sura Bistro, “DRANKIN? N? JAMMIN?” at Escape Lounge, 
 ARTLIFE II” at Studio E, ”SESSIONS” at Cherry Red, \"CHICAGO D
 YKE MARCH COLLECTIVE\" at Evil Olive, at several \"CHICAGO DIRTY GIRL\
 " events at Lakeview Broadcasting Co./Spot 6/Angels and Kings, \"DOLL 
 HOUSE\" at Wicker Well, \"HIP HOP FRIDAYS\" at Subterranean and ”FER
 AL FRIDAYS” at The Zoo.\n\nFor more information visit https://truesk
 ool.com/events/groove-theory-featuring-the
DTSTART;TZID=America/Los_Angeles:20100513T210000
DTEND;TZID=America/Los_Angeles:20100514T020000
CATEGORIES:neo-soul, house
LOCATION:Somar Oakland
WEBSITE:http://somarbar.com
URL:http://somarbar.com
CONTACT:
ORGANIZER:DJ RYAN
ATTACH;FMTTYPE="image/jpeg":http://storage.ning.com/topology/rest/1.0/
 file/get/2164576192?profile=original
ATTENDEE;ROLE=REQ-PARTICIPANT;PARTSTAT=ACCEPTED;RSVP=TRUE;CN=Ryan:http
 s://trueskool.com/profile/Ryan152
END:VEVENT
END:VCALENDAR
