BEGIN:VCALENDAR
PRODID:NingEventWidget-v1
VERSION:2.0
METHOD:PUBLISH
BEGIN:VTIMEZONE
TZID:America/Los_Angeles
X-LIC-LOCATION:America/Los_Angeles
BEGIN:DAYLIGHT
TZOFFSETFROM:-0800
TZOFFSETTO:-0700
TZNAME:PDT
DTSTART:19700308T020000
RRULE:FREQ=YEARLY;BYMONTH=3;BYDAY=2SU
END:DAYLIGHT
BEGIN:STANDARD
TZOFFSETFROM:-0700
TZOFFSETTO:-0800
TZNAME:PST
DTSTART:19701101T020000
RRULE:FREQ=YEARLY;BYMONTH=11;BYDAY=1SU
END:STANDARD
END:VTIMEZONE
BEGIN:VEVENT
UID:1464587:Event:33418
DTSTAMP:20260421T053351Z
SUMMARY:Grind Time
DESCRIPTION:In The Dark Room,\nGrind Time\nBattle Of The Bay Four\nPre
 -Party Event, Featuring The Illest Fresh Coast All-Stars & Battle Lege
 nds On the Planet:\nthesaurus\nAjaxx\nF.L.O.\nPumpkinhead\nDumbfoundea
 d\nDirtbag Dan\nOkwerdz\n\nHosted By Lush-1 (Delinquent Monestary)\nSo
 unds By Kevvy Kev (Drum, KZSU, Stanford)\n\nPlus: Model Casting Call!!
 !\nLooking for the most incredible ladies in the bay to rep for Grind 
 Time!\n\n\nPrice $5 / $10\nTime 9pm-2am\nMusic Hip-Hop\n\nFor more inf
 ormation visit https://trueskool.com/events/grind-time
DTSTART;TZID=America/Los_Angeles:20090605T210000
DTEND;TZID=America/Los_Angeles:20090606T020000
CATEGORIES:hip, hop
LOCATION:Club Six, San Francisco, CA
WEBSITE:http://www.clubsix1.com
URL:http://www.clubsix1.com
CONTACT:415-531-6593
ORGANIZER:Angel
ATTACH;FMTTYPE="image/jpeg":http://storage.ning.com/topology/rest/1.0/
 file/get/2247857549?profile=original
ATTENDEE;ROLE=REQ-PARTICIPANT;PARTSTAT=ACCEPTED;RSVP=TRUE;CN=Cecily:ht
 tps://trueskool.com/profile/Cecily
END:VEVENT
END:VCALENDAR
