BEGIN:VCALENDAR
PRODID:NingEventWidget-v1
VERSION:2.0
METHOD:PUBLISH
BEGIN:VTIMEZONE
TZID:America/Los_Angeles
X-LIC-LOCATION:America/Los_Angeles
BEGIN:DAYLIGHT
TZOFFSETFROM:-0800
TZOFFSETTO:-0700
TZNAME:PDT
DTSTART:19700308T020000
RRULE:FREQ=YEARLY;BYMONTH=3;BYDAY=2SU
END:DAYLIGHT
BEGIN:STANDARD
TZOFFSETFROM:-0700
TZOFFSETTO:-0800
TZNAME:PST
DTSTART:19701101T020000
RRULE:FREQ=YEARLY;BYMONTH=11;BYDAY=1SU
END:STANDARD
END:VTIMEZONE
BEGIN:VEVENT
UID:1464587:Event:37427
DTSTAMP:20260421T050747Z
SUMMARY:Grind for the Green Solar Powered Hip Hop Concert feat. dead p
 rez & Mistah F.A.B., Fiyawata & DJ Anthony Marshall
DESCRIPTION:\n\n\n\n\n\nFor more information visit https://trueskool.c
 om/events/grind-for-the-green-solar
DTSTART;TZID=America/Los_Angeles:20090830T120000
DTEND;TZID=America/Los_Angeles:20090830T160000
CATEGORIES:hip, hop
LOCATION:Yerba Buena Gardens, San Francisco, CA
WEBSITE:http://www.grindforthegreen.com/
URL:http://www.grindforthegreen.com/
CONTACT:
ORGANIZER:Grind for the Green & Solar Powered Institute presents
ATTACH;FMTTYPE="image/jpeg":http://storage.ning.com/topology/rest/1.0/
 file/get/2247861284?profile=original
ATTENDEE;ROLE=REQ-PARTICIPANT;PARTSTAT=ACCEPTED;RSVP=TRUE;CN="Ren the 
 Vinyl Archaeologist":https://trueskool.com/profile/xh51jvilojur
END:VEVENT
END:VCALENDAR
