BEGIN:VCALENDAR
PRODID:NingEventWidget-v1
VERSION:2.0
METHOD:PUBLISH
BEGIN:VTIMEZONE
TZID:America/Los_Angeles
X-LIC-LOCATION:America/Los_Angeles
BEGIN:DAYLIGHT
TZOFFSETFROM:-0800
TZOFFSETTO:-0700
TZNAME:PDT
DTSTART:19700308T020000
RRULE:FREQ=YEARLY;BYMONTH=3;BYDAY=2SU
END:DAYLIGHT
BEGIN:STANDARD
TZOFFSETFROM:-0700
TZOFFSETTO:-0800
TZNAME:PST
DTSTART:19701101T020000
RRULE:FREQ=YEARLY;BYMONTH=11;BYDAY=1SU
END:STANDARD
END:VTIMEZONE
BEGIN:VEVENT
UID:1464587:Event:35755
DTSTAMP:20260421T034244Z
SUMMARY:Gregory Isaacs (Cancelled)
DESCRIPTION:\nGregory Isaacs\n\nTHE INDEPENDENT - 628 DIVISADERO STREE
 T - SAN FRANCISCO, CA - 415.771.1421\nALL SHOWS 21 AND OVER\nDoors 8:3
 0 PM | Show 9 PM\nTickets $28\nBuy Tickets\n\n\n\n\nFor more informati
 on visit https://trueskool.com/events/gregory-isaacs-cancelled
DTSTART;TZID=America/Los_Angeles:20090813T203000
DTEND;TZID=America/Los_Angeles:20090813T230000
CATEGORIES:reggae, dancehall, roots, dub
LOCATION:Independent, San Francisco, CA
WEBSITE:http://www.ticketweb.com/snl/CalendarListings.action?venueId=t
 heindependentsf&month=7&year=2009
URL:http://www.ticketweb.com/snl/CalendarListings.action?venueId=thein
 dependentsf&month=7&year=2009
CONTACT:
ORGANIZER:Another Planet Ent.
ATTACH;FMTTYPE="image/jpeg":http://storage.ning.com/topology/rest/1.0/
 file/get/2247858765?profile=original
ATTENDEE;ROLE=REQ-PARTICIPANT;PARTSTAT=ACCEPTED;RSVP=TRUE;CN="Ren the 
 Vinyl Archaeologist":https://trueskool.com/profile/xh51jvilojur
END:VEVENT
END:VCALENDAR
