BEGIN:VCALENDAR
PRODID:NingEventWidget-v1
VERSION:2.0
METHOD:PUBLISH
BEGIN:VTIMEZONE
TZID:America/Los_Angeles
X-LIC-LOCATION:America/Los_Angeles
BEGIN:DAYLIGHT
TZOFFSETFROM:-0800
TZOFFSETTO:-0700
TZNAME:PDT
DTSTART:19700308T020000
RRULE:FREQ=YEARLY;BYMONTH=3;BYDAY=2SU
END:DAYLIGHT
BEGIN:STANDARD
TZOFFSETFROM:-0700
TZOFFSETTO:-0800
TZNAME:PST
DTSTART:19701101T020000
RRULE:FREQ=YEARLY;BYMONTH=11;BYDAY=1SU
END:STANDARD
END:VTIMEZONE
BEGIN:VEVENT
UID:1464587:Event:82283
DTSTAMP:20260421T050554Z
SUMMARY:GRANT HIGH SCHOOL
DESCRIPTION:\nTickets available at Natomas Golds Gym or at the Door...
 . Presale 10 at the door 15.... Kids 10 and under 1.00On Saturday Apri
 l 16th Grant High pacers for Peace will be having the 2 annual Music F
 estival. This is a Non Profit show. 100% of proceeds go to 2 funds. Gr
 ant High School Peace Park and a Senior Class Fund. Artist have donate
 d there time to the worthy cause... Show will go from1pm until 10:pmar
 titst performingSan QuinnBlack C (RBL Possie)King HopetonSoulmedicJame
 lodyEyezonQueen MakedahAbjaTribe of LeviBambu ProphetsDylans DharmaLar
 ry Jazz BandAR ONEFLY SocietyPacers for peace bandCultural DancersSpok
 en wordStudent band performancesand soooooo much moreSelectas.... Empr
 ess Tru Dawta, Kris Ward of Squarfield Massive, Beatnok, Jah Mikey One
 , EsefFor more information on show and vending please call 916-607-699
 5\n\n\n\n\n\nFor more information visit https://trueskool.com/events/g
 rant-high-school
DTSTART;TZID=America/Los_Angeles:20110416T110000
DTEND;TZID=America/Los_Angeles:20110416T220000
CATEGORIES:sacramento, california
LOCATION:Grant High School Sacramento California
WEBSITE:
URL:
CONTACT:916-607-6995
ORGANIZER;CN=Denise:https://trueskool.com/profile/Denise950
ATTACH;FMTTYPE="image/jpeg":http://storage.ning.com/topology/rest/1.0/
 file/get/2247896064?profile=original
ATTENDEE;ROLE=REQ-PARTICIPANT;PARTSTAT=ACCEPTED;RSVP=TRUE;CN=Denise:ht
 tps://trueskool.com/profile/Denise950
END:VEVENT
END:VCALENDAR
