BEGIN:VCALENDAR
PRODID:NingEventWidget-v1
VERSION:2.0
METHOD:PUBLISH
BEGIN:VTIMEZONE
TZID:America/Los_Angeles
X-LIC-LOCATION:America/Los_Angeles
BEGIN:DAYLIGHT
TZOFFSETFROM:-0800
TZOFFSETTO:-0700
TZNAME:PDT
DTSTART:19700308T020000
RRULE:FREQ=YEARLY;BYMONTH=3;BYDAY=2SU
END:DAYLIGHT
BEGIN:STANDARD
TZOFFSETFROM:-0700
TZOFFSETTO:-0800
TZNAME:PST
DTSTART:19701101T020000
RRULE:FREQ=YEARLY;BYMONTH=11;BYDAY=1SU
END:STANDARD
END:VTIMEZONE
BEGIN:VEVENT
UID:1464587:Event:259204
DTSTAMP:20260420T193525Z
SUMMARY:Gramatik (Chicago)
DESCRIPTION:\nDEC  \n31\nTUE\n\nAuditorium TheatreChicago, IL08:00 
 PM\n\nGramatik\nFind Tickets\n\n\n\n\nFor more information visit https
 ://trueskool.com/events/gramatik-chicago
DTSTART;TZID=America/Los_Angeles:20131231T200000
DTEND;TZID=America/Los_Angeles:20131231T230000
CATEGORIES:chicago
LOCATION:Auditorium Theatre, Chicago
WEBSITE:http://www.ticketmaster.com/gramatik-chicago-illinois-12-31-20
 13/event/07004B47D78A7FAB?artistid=1495438&majorcatid=10001&minorcatid
 =3&tm_link=artist_msg-0_07004B47D78A7FAB
URL:http://www.ticketmaster.com/gramatik-chicago-illinois-12-31-2013/e
 vent/07004B47D78A7FAB?artistid=1495438&majorcatid=10001&minorcatid=3&t
 m_link=artist_msg-0_07004B47D78A7FAB
CONTACT:
ORGANIZER;CN="Editor's Pick":https://trueskool.com/profile/RentheVinyl
 Archaeologist
ATTACH;FMTTYPE="image/jpeg":http://storage.ning.com/topology/rest/1.0/
 file/get/2247950328?profile=original
ATTENDEE;ROLE=REQ-PARTICIPANT;PARTSTAT=ACCEPTED;RSVP=TRUE;CN="Editor's
  Pick":https://trueskool.com/profile/RentheVinylArchaeologist
END:VEVENT
END:VCALENDAR
