BEGIN:VCALENDAR
PRODID:NingEventWidget-v1
VERSION:2.0
METHOD:PUBLISH
BEGIN:VTIMEZONE
TZID:America/Los_Angeles
X-LIC-LOCATION:America/Los_Angeles
BEGIN:DAYLIGHT
TZOFFSETFROM:-0800
TZOFFSETTO:-0700
TZNAME:PDT
DTSTART:19700308T020000
RRULE:FREQ=YEARLY;BYMONTH=3;BYDAY=2SU
END:DAYLIGHT
BEGIN:STANDARD
TZOFFSETFROM:-0700
TZOFFSETTO:-0800
TZNAME:PST
DTSTART:19701101T020000
RRULE:FREQ=YEARLY;BYMONTH=11;BYDAY=1SU
END:STANDARD
END:VTIMEZONE
BEGIN:VEVENT
UID:1464587:Event:672295
DTSTAMP:20260421T182121Z
SUMMARY:GRAMATIK (WIN TICKETS)
DESCRIPTION:ENTER TO WIN A PAIR OF TICKETS. WINNER WILL BE DRAWN RANDO
 MLY AND ANNOUNCED 2 DAYS PRIOR TO EVENT.  \r\n\r\nThursday, February 1
 5, 2018 Re:Coil Tour\r\nGRAMATIK\r\nHaywyre  Møme\r\nFox Theater, Oa
 kland, CA Show: 8:00pm\r\nPlease note this show is 18 and over.\r\n$35
 .00 – General Admission Floor $35.00 – Reserved Balcony\r\n>> BUY 
 TICKETS\r\n\n\nFor more information visit https://trueskool.com/events
 /gramatik-1
DTSTART;TZID=America/Los_Angeles:20180215T200000
DTEND;TZID=America/Los_Angeles:20180215T230000
CATEGORIES:"bay area", oakland, "san francisco", "san jose", berkeley
LOCATION:Fox Theater, Oakland
WEBSITE:https://www.ticketmaster.com/gramatik-oakland-california-02-15
 -2018/event/1C00537DED324A8D?camefrom=CFC_ANOTHERPLANET_web&amp;amp;am
 p;amp;brand=anotherplanet
URL:https://www.ticketmaster.com/gramatik-oakland-california-02-15-201
 8/event/1C00537DED324A8D?camefrom=CFC_ANOTHERPLANET_web&amp;amp;amp;am
 p;brand=anotherplanet
CONTACT:
ORGANIZER;CN="Editor's Pick":https://trueskool.com/profile/RentheVinyl
 Archaeologist
ATTACH;FMTTYPE="image/jpeg":http://storage.ning.com/topology/rest/1.0/
 file/get/2248004230?profile=original
ATTENDEE;ROLE=REQ-PARTICIPANT;PARTSTAT=ACCEPTED;RSVP=TRUE;CN="Elisa Bj
 eldanes":https://trueskool.com/profile/ElisaBjeldanes
ATTENDEE;ROLE=REQ-PARTICIPANT;PARTSTAT=ACCEPTED;RSVP=TRUE;CN="Editor's
  Pick":https://trueskool.com/profile/RentheVinylArchaeologist
END:VEVENT
END:VCALENDAR
