BEGIN:VCALENDAR
PRODID:NingEventWidget-v1
VERSION:2.0
METHOD:PUBLISH
BEGIN:VTIMEZONE
TZID:America/Los_Angeles
X-LIC-LOCATION:America/Los_Angeles
BEGIN:DAYLIGHT
TZOFFSETFROM:-0800
TZOFFSETTO:-0700
TZNAME:PDT
DTSTART:19700308T020000
RRULE:FREQ=YEARLY;BYMONTH=3;BYDAY=2SU
END:DAYLIGHT
BEGIN:STANDARD
TZOFFSETFROM:-0700
TZOFFSETTO:-0800
TZNAME:PST
DTSTART:19701101T020000
RRULE:FREQ=YEARLY;BYMONTH=11;BYDAY=1SU
END:STANDARD
END:VTIMEZONE
BEGIN:VEVENT
UID:1464587:Event:63514
DTSTAMP:20260420T224937Z
SUMMARY:\"Got Distribution? Independent Distribution Secrets Revealed\
 "
DESCRIPTION:\nWed, Aug 11\nNARIP presents\n\"Got Distribution? Indepen
 dent Distribution Secrets Revealed\"\n\nwith Prime Time's Ric Curtice 
 and IODA's Humberto Carmona at SAE Institute in San Francisco.\n\nFor 
 those who want to get and make the most of independent distribution, N
 ARIP presents this program to help understand the process.\n\nYou will
  learn low-cost (or no-cost) ways to get independent record distributi
 on, the best ways to work with a network of independents and how to ha
 rness everyone to work as a team. Also, you’ll learn about sales arr
 angements, territories, and payment terms – everything you need to a
 chieve sales success.\n\nFind out how you can use SoundScan and other 
 tools, how to identify the best distributors for your genre of music, 
 how to approach them, and how to get the best deal and achieve maximum
  exposure for your product.\n\nYOU WILL LEARN:\n\n* What it is & how i
 t works\n* Who needs it & when\n* How to get it & what it costs\n* Typ
 es of distributors\n* How to work with distributors for maximum profit
 s\n* How to fan the flames and create demand for your product\n* Distr
 ibution agreements: fees, terms and important considerations\n* Distri
 buted vs. in-house labels\n* How to get paid\n\n\nNOTE:\n\nThis progra
 m does not cover specifics of acquiring digital distribution, but will
  cover how to use a digital distribution aggregator along with (or sep
 arately) from your physical distributor.\n\n\nGUEST SPEAKERS (scroll d
 own for speaker profiles):\n\nRic Curtice, Prime Time Entertainment\nH
 umberto Carmona, Manager of Business Development, IODA Alliance\nEric 
 Ferraro, Esq., Music & Digital Media Attorney, Bullivant Houser & Bail
 ey PC -----> **JUST ADDED**\nTamra Engle, NARIP San Francisco Executiv
 e Director\n\nWHEN\n\nWednesday, August 11, 2010\n6:00 p.m. – Regist
 ration and networking\n7:00 p.m. – Program begins\n8:15 p.m. – Bre
 ak\n9:30 p.m. – Program ends\n\nWHO SHOULD ATTEND\n\nArtist Managers
 , Producers & Artist Reps\nRecord, Distribution & Music Publishing Exe
 cutives\nAttorneys and CPAs\nAnyone seeking to create or increase sale
 s and exposure for music.\n\nWHERE\nSAE Institute of Technology\n450 B
 ryant St.\nSan Francisco, CA 94107-1303\n\nREGISTER NOW\n$15: NARIP Me
 mbers\n$25: Non-members\n$75: Attorneys who wish to receive 2.5 MCLE c
 redits for attending this program. Select Premium Ticket option\n\nGet
  more details and register NOW at http://www.narip.com.\n\nFor more in
 formation visit https://trueskool.com/events/got-distribution-independ
 ent
DTSTART;TZID=America/Los_Angeles:20100811T180000
DTEND;TZID=America/Los_Angeles:20100811T213000
CATEGORIES:bay, area, san, francisco, ca
LOCATION:SAE Institute of Technology, San Francisco, CA
WEBSITE:http://www.narip.com
URL:http://www.narip.com
CONTACT:
ORGANIZER:NARIP
ATTACH;FMTTYPE="image/jpeg":http://storage.ning.com/topology/rest/1.0/
 file/get/2247855718?profile=original
ATTENDEE;ROLE=REQ-PARTICIPANT;PARTSTAT=ACCEPTED;RSVP=TRUE;CN="Ren the 
 Vinyl Archaeologist":https://trueskool.com/profile/xh51jvilojur
END:VEVENT
END:VCALENDAR
