BEGIN:VCALENDAR
PRODID:NingEventWidget-v1
VERSION:2.0
METHOD:PUBLISH
BEGIN:VTIMEZONE
TZID:America/Los_Angeles
X-LIC-LOCATION:America/Los_Angeles
BEGIN:DAYLIGHT
TZOFFSETFROM:-0800
TZOFFSETTO:-0700
TZNAME:PDT
DTSTART:19700308T020000
RRULE:FREQ=YEARLY;BYMONTH=3;BYDAY=2SU
END:DAYLIGHT
BEGIN:STANDARD
TZOFFSETFROM:-0700
TZOFFSETTO:-0800
TZNAME:PST
DTSTART:19701101T020000
RRULE:FREQ=YEARLY;BYMONTH=11;BYDAY=1SU
END:STANDARD
END:VTIMEZONE
BEGIN:VEVENT
UID:1464587:Event:809764
DTSTAMP:20260422T043314Z
SUMMARY:Gorillaz
DESCRIPTION:GORILLAZ EARTHGANG\r\nWednesday, September 21, 2022 Doors:
  6:30pm | Show: 7:30pm\r\nChase Center 1 Warriors Way,  San Francisco,
  CA  94158\n\nFor more information visit https://trueskool.com/events/
 gorillaz-1
DTSTART;TZID=America/Los_Angeles:20220921T193000
DTEND;TZID=America/Los_Angeles:20220921T233000
CATEGORIES:"bay area", oakland, "san francisco", "san jose", berkeley
LOCATION:Chase Center, SF
WEBSITE:https://www.ticketmaster.com/event/1C005CAC9D6A3902?camefrom=C
 FC_ANOTHERPLANET_web&amp;brand=anotherplanet
URL:https://www.ticketmaster.com/event/1C005CAC9D6A3902?camefrom=CFC_A
 NOTHERPLANET_web&amp;brand=anotherplanet
CONTACT:
ORGANIZER;CN="Editor's Pick":https://trueskool.com/profile/RentheVinyl
 Archaeologist
ATTACH;FMTTYPE="image/jpeg":https://storage.ning.com/topology/rest/1.0
 /file/get/10585633863?profile=original
ATTENDEE;ROLE=REQ-PARTICIPANT;PARTSTAT=ACCEPTED;RSVP=TRUE;CN="Editor's
  Pick":https://trueskool.com/profile/RentheVinylArchaeologist
END:VEVENT
END:VCALENDAR
