BEGIN:VCALENDAR
PRODID:NingEventWidget-v1
VERSION:2.0
METHOD:PUBLISH
BEGIN:VTIMEZONE
TZID:America/Los_Angeles
X-LIC-LOCATION:America/Los_Angeles
BEGIN:DAYLIGHT
TZOFFSETFROM:-0800
TZOFFSETTO:-0700
TZNAME:PDT
DTSTART:19700308T020000
RRULE:FREQ=YEARLY;BYMONTH=3;BYDAY=2SU
END:DAYLIGHT
BEGIN:STANDARD
TZOFFSETFROM:-0700
TZOFFSETTO:-0800
TZNAME:PST
DTSTART:19701101T020000
RRULE:FREQ=YEARLY;BYMONTH=11;BYDAY=1SU
END:STANDARD
END:VTIMEZONE
BEGIN:VEVENT
UID:1464587:Event:41194
DTSTAMP:20260421T005831Z
SUMMARY:Goodie Mob Reunion Tour w/ special guest Scarface
DESCRIPTION:\n\nGOODIE MOB REUNION SHOW!!\n\nWITH ALL OF THE ORIGINAL 
 MEMBERS : CEE LO, BIG GIPP, KHUJO, & T-MO\n\nPLUS SPECIAL GUEST\n\nSCA
 RFACE\n\nSATURDAY OCTOBER 24th\n\n@ the Fillmore\n1805 Geary St. SF\n\
 nALL AGES\n\n7PM DOORS\n\n\n\nFor more information visit https://trues
 kool.com/events/goodie-mob-reunion-tour-w
DTSTART;TZID=America/Los_Angeles:20091024T190000
DTEND;TZID=America/Los_Angeles:20091024T230000
CATEGORIES:hip, hop
LOCATION:The Fillmore, San Francisco, CA
WEBSITE:http://www.livenation.com/edp/eventId/413590/?c=api-000579
URL:http://www.livenation.com/edp/eventId/413590/?c=api-000579
CONTACT:
ORGANIZER:Guerrilla Union
ATTACH;FMTTYPE="image/jpeg":http://storage.ning.com/topology/rest/1.0/
 file/get/2247866575?profile=original
ATTENDEE;ROLE=REQ-PARTICIPANT;PARTSTAT=ACCEPTED;RSVP=TRUE;CN="Editor's
  Pick":https://trueskool.com/profile/RentheVinylArchaeologist
END:VEVENT
END:VCALENDAR
