BEGIN:VCALENDAR
PRODID:NingEventWidget-v1
VERSION:2.0
METHOD:PUBLISH
BEGIN:VTIMEZONE
TZID:America/Los_Angeles
X-LIC-LOCATION:America/Los_Angeles
BEGIN:DAYLIGHT
TZOFFSETFROM:-0800
TZOFFSETTO:-0700
TZNAME:PDT
DTSTART:19700308T020000
RRULE:FREQ=YEARLY;BYMONTH=3;BYDAY=2SU
END:DAYLIGHT
BEGIN:STANDARD
TZOFFSETFROM:-0700
TZOFFSETTO:-0800
TZNAME:PST
DTSTART:19701101T020000
RRULE:FREQ=YEARLY;BYMONTH=11;BYDAY=1SU
END:STANDARD
END:VTIMEZONE
BEGIN:VEVENT
UID:1464587:Event:228474
DTSTAMP:20260421T080224Z
SUMMARY:Goodie Mob (CHICAGO)
DESCRIPTION:\nHouse of Blues ChicagoChicago, IL06:30 PM\n\nGoodie Mob
  featuring Cee-Lo Green, Khujo, T-Mo, and Big GippDetails: Goodie Mob,
  Drop City Yacht Club\nFind Tickets »on Live Nation\n\n\n\n\nFor mo
 re information visit https://trueskool.com/events/goodie-mob-chicago
DTSTART;TZID=America/Los_Angeles:20130903T183000
DTEND;TZID=America/Los_Angeles:20130903T230000
CATEGORIES:chicago, il
LOCATION:House of Blues, Chicago
WEBSITE:http://concerts.livenation.com/event/04004AD3B4E4622A?crosssit
 e=TM_US:777709:32905
URL:http://concerts.livenation.com/event/04004AD3B4E4622A?crosssite=TM
 _US:777709:32905
CONTACT:
ORGANIZER;CN="Editor's Pick":https://trueskool.com/profile/RentheVinyl
 Archaeologist
ATTACH;FMTTYPE="image/jpeg":http://storage.ning.com/topology/rest/1.0/
 file/get/2247944030?profile=original
ATTENDEE;ROLE=REQ-PARTICIPANT;PARTSTAT=ACCEPTED;RSVP=TRUE;CN="Editor's
  Pick":https://trueskool.com/profile/RentheVinylArchaeologist
END:VEVENT
END:VCALENDAR
