BEGIN:VCALENDAR
PRODID:NingEventWidget-v1
VERSION:2.0
METHOD:PUBLISH
BEGIN:VTIMEZONE
TZID:America/Los_Angeles
X-LIC-LOCATION:America/Los_Angeles
BEGIN:DAYLIGHT
TZOFFSETFROM:-0800
TZOFFSETTO:-0700
TZNAME:PDT
DTSTART:19700308T020000
RRULE:FREQ=YEARLY;BYMONTH=3;BYDAY=2SU
END:DAYLIGHT
BEGIN:STANDARD
TZOFFSETFROM:-0700
TZOFFSETTO:-0800
TZNAME:PST
DTSTART:19701101T020000
RRULE:FREQ=YEARLY;BYMONTH=11;BYDAY=1SU
END:STANDARD
END:VTIMEZONE
BEGIN:VEVENT
UID:1464587:Event:42391
DTSTAMP:20260421T112041Z
SUMMARY:GOOD VIBES THURS - MEET/GREET WITH STREAM
DESCRIPTION:EVERY THURS CLASSIC PROMOTIONS & CITY CAT SOUND PRESENTS:\
 nGOOD VIBES THURSDAYS\n\nFeaturing Resident Selekta:\nDJ HENROC (City 
 Cat Sound)\n+ MEET / GREET WITH NEW JAMAICAN ARTIST\n\nSTREAM\n\nSheâ€
 ™s just breaking out of the scene in JA and weâ€™d love to give her so
 me exposure out here in NorCal! She rocked the stage at Reggae Sumfest
  and a bunch of other festival this past summer. Some of her big tunes
  include â€˜Fuss Nor Fightâ€™, â€˜Sistersâ€™ and â€˜In The Ghettoâ€™. 
 Her new album â€˜Nu-Rootâ€™ will be coming out soon.\n\nTake a listen!
 \n\nCheck the myspace for more music and videos! www.myspace.com/natee
 shastream.\n\nPlaying Music That Moves You\nCome socialize, mingle, ne
 twork and redefine your musical options at one of the Oaklandâ€™s Fine
 st Venues.\n@ Air Ultra Lounge\n492 9th & Washington â€“ Oak\nFREE ALL
  NIGHT!!!!\nLowere Outside Patio Area & Lounge\nCasual Dress & Good At
 titude Required\nCelebrating a Birthday want to reserve a Booth?\nInfo
 : 510.444.2377\n\nFor more information visit https://trueskool.com/eve
 nts/good-vibes-thurs-meetgreet
DTSTART;TZID=America/Los_Angeles:20091105T220000
DTEND;TZID=America/Los_Angeles:20091106T020000
CATEGORIES:reggae, dancehall, roots, soul, international
LOCATION:Air Lounge, Oakland, CA
WEBSITE:http://www.airoakland.com
URL:http://www.airoakland.com
CONTACT:
ORGANIZER;CN="DJ HENROC":https://trueskool.com/profile/DJHENROC
ATTACH;FMTTYPE="image/jpeg":http://storage.ning.com/topology/rest/1.0/
 file/get/2247868894?profile=original
ATTENDEE;ROLE=REQ-PARTICIPANT;PARTSTAT=ACCEPTED;RSVP=TRUE;CN="DJ HENRO
 C":https://trueskool.com/profile/DJHENROC
END:VEVENT
END:VCALENDAR
