BEGIN:VCALENDAR
PRODID:NingEventWidget-v1
VERSION:2.0
METHOD:PUBLISH
BEGIN:VTIMEZONE
TZID:America/Los_Angeles
X-LIC-LOCATION:America/Los_Angeles
BEGIN:DAYLIGHT
TZOFFSETFROM:-0800
TZOFFSETTO:-0700
TZNAME:PDT
DTSTART:19700308T020000
RRULE:FREQ=YEARLY;BYMONTH=3;BYDAY=2SU
END:DAYLIGHT
BEGIN:STANDARD
TZOFFSETFROM:-0700
TZOFFSETTO:-0800
TZNAME:PST
DTSTART:19701101T020000
RRULE:FREQ=YEARLY;BYMONTH=11;BYDAY=1SU
END:STANDARD
END:VTIMEZONE
BEGIN:VEVENT
UID:1464587:Event:55257
DTSTAMP:20260420T163423Z
SUMMARY:GoldSweat w/Mike 2600 & King Most
DESCRIPTION:\n\nGoldSweat is back. This time with a 5th. Five Friday's
  in a month only happen four times a year. So to bury the hatchet, we'
 ve invited a pair of royal's - Mike the 2600 King and King Most.\n\n\n
 \n···Mike the 2600 King···\nWe first hooked up with Mike 2600 fo
 r our humble 1 year anniversary back in August (with White Girl Lust, 
 TophOne, & B.Cause), then again in January for our Hacksaw Entertainme
 nt collaboration presenting Jinder (Trouble & Bass). Mike 2600 release
 d Do It To It vol.3 just in time for SXSW 2010 and his first EP, Ready
  to Rock (Crossfaded Bacon). A master of the 'feel-good' blend, Mike 2
 600 is like your favorite uncle with the wicked record collection. If 
 you've caught him in the city before, get hyped! If you haven't had th
 e pleasure, we promise you won't be dissapointed!\n\nburlesquedesign.c
 om\ntwitter.com/mike2600\ntwelvecarpileup.com\nmyspace.com/mikethe2600
 king\n\n\n\n···King Most···\nThis time, we've invited King Most 
 to our brown bag social. Mike 2600 & King Most have finally been re-un
 ited \"and it feels so good\". Its been a few years since these two sh
 ared a mixer, so GoldSweat was excited to pair them up for some seriou
 s double trouble. A staple in San Francisco nightlife, King Most is ev
 erywhere at once and always on point. Peep the tumblr account for some
  file-sharing action!\n\nfacebook.com/kingmost\nkingmost.tumblr.com\nt
 witter.com/kingmost\n\n\n\n···GoldSweat DJs···\nOf course, your 
 boys Loco and BellyUp will be dropping yawns harder than a beauty page
 ant. It may have been a month or two since you last saw these guys, bu
 t don't get it twisted, they haven't been sleeping. Contributing to th
 e scene since 2008, GoldSweat has spread from San Francisco to Atlanta
  and Baltimore.\n\ngoldsweatsf.com\ngoldsweatatl.com\ngoldsweatbmore.c
 om\ntwitter.com/GoldSweat\n\n\n\nSOM\n2925 16th Street\nSF, CA\n\n21+ 
 9pm-late\n\nFREE early\n$5 after 11pm\n\nFor more information visit ht
 tps://trueskool.com/events/goldsweat-wmike-2600-king
DTSTART;TZID=America/Los_Angeles:20100430T210000
DTEND;TZID=America/Los_Angeles:20100501T023000
CATEGORIES:hip, hop, bmore, disco, club, uk, funky, rap, rock, blends,
  house, miami, booty, bass, juke, jit
LOCATION:SOM, San Francisco, CA
WEBSITE:http://www.som-bar.com
URL:http://www.som-bar.com
CONTACT:
ORGANIZER;CN=GoldSweat:https://trueskool.com/profile/GoldSweat
ATTACH;FMTTYPE="image/jpeg":http://storage.ning.com/topology/rest/1.0/
 file/get/2247877462?profile=original
ATTENDEE;ROLE=REQ-PARTICIPANT;PARTSTAT=ACCEPTED;RSVP=TRUE;CN=GoldSweat
 :https://trueskool.com/profile/GoldSweat
END:VEVENT
END:VCALENDAR
