BEGIN:VCALENDAR
PRODID:NingEventWidget-v1
VERSION:2.0
METHOD:PUBLISH
BEGIN:VTIMEZONE
TZID:America/Los_Angeles
X-LIC-LOCATION:America/Los_Angeles
BEGIN:DAYLIGHT
TZOFFSETFROM:-0800
TZOFFSETTO:-0700
TZNAME:PDT
DTSTART:19700308T020000
RRULE:FREQ=YEARLY;BYMONTH=3;BYDAY=2SU
END:DAYLIGHT
BEGIN:STANDARD
TZOFFSETFROM:-0700
TZOFFSETTO:-0800
TZNAME:PST
DTSTART:19701101T020000
RRULE:FREQ=YEARLY;BYMONTH=11;BYDAY=1SU
END:STANDARD
END:VTIMEZONE
BEGIN:VEVENT
UID:1464587:Event:36581
DTSTAMP:20260420T231933Z
SUMMARY:GOLDEN @ LASZLO f/ DJ GRAVY (NYC) & MR. MENTION (SD)
DESCRIPTION:Golden Soundscapes presents...\nGOLDEN @ LASZLO BAR SF\nSa
 turday August 15, 2009\nevery 3rd Saturday\n*going 3 1/2 years long an
 d still strong*\n\nGolden DJ Pioneers\nDJ ZITA (BASS)\nDJ DMADNESS (Kn
 owmadic DJ's)\n\nPlus Special Guests:\nDJ GRAVY (NYC)\nMR. MENTION (SD
 )\n\nFREE COPIES OF DJ DMADNESS'\nSADE TRIBUTE PART 2 @ DEVIL'S PIE\nw
 ww.devilspiesoul.com\ndeejaydmadness.blogspot.com\nReserve Your Copy N
 OW: goodlifeoakland@gmail.com\n\nHappy Birthday DEBBIE (MADE Jewelry)!
 !!\n\nhip hop, funk, soul, reggae, dancehall, classics\n21+ | 9pm-2am 
 | NO COVER\n\nLaszlo Bar\n2526 Mission St. (btwn 21st & 22nd St.)\nSan
  Francisco, CA\n\n\n\n\n\nFor more information visit https://trueskool
 .com/events/golden-laszlo-f-dj-gravy-nyc
DTSTART;TZID=America/Los_Angeles:20090815T210000
DTEND;TZID=America/Los_Angeles:20090816T020000
CATEGORIES:hip, hop, dancehall, reggae, "r&b", old, school, funk
LOCATION:Laszlo San Francisco
WEBSITE:http://www.myspace.com/goldenlaszlo
URL:http://www.myspace.com/goldenlaszlo
CONTACT:
ORGANIZER;CN="Fiyah Lilly":https://trueskool.com/profile/FiyahLilly
ATTACH;FMTTYPE="image/jpeg":http://storage.ning.com/topology/rest/1.0/
 file/get/2247858892?profile=original
ATTENDEE;ROLE=REQ-PARTICIPANT;PARTSTAT=ACCEPTED;RSVP=TRUE;CN="Fiyah Li
 lly":https://trueskool.com/profile/FiyahLilly
END:VEVENT
END:VCALENDAR
