BEGIN:VCALENDAR
PRODID:NingEventWidget-v1
VERSION:2.0
METHOD:PUBLISH
BEGIN:VTIMEZONE
TZID:America/Los_Angeles
X-LIC-LOCATION:America/Los_Angeles
BEGIN:DAYLIGHT
TZOFFSETFROM:-0800
TZOFFSETTO:-0700
TZNAME:PDT
DTSTART:19700308T020000
RRULE:FREQ=YEARLY;BYMONTH=3;BYDAY=2SU
END:DAYLIGHT
BEGIN:STANDARD
TZOFFSETFROM:-0700
TZOFFSETTO:-0800
TZNAME:PST
DTSTART:19701101T020000
RRULE:FREQ=YEARLY;BYMONTH=11;BYDAY=1SU
END:STANDARD
END:VTIMEZONE
BEGIN:VEVENT
UID:1464587:Event:811485
DTSTAMP:20260421T155548Z
SUMMARY:Golden Era with Renoir and special guest DJ Twin Spin
DESCRIPTION: WEDNESDAY SEPT 14 Golden Era (2nd & 4th Wednesdays)  Clas
 sic Hip Hop & R&B with Renoir (aka Ren the Vinyl Archaeologist)  and s
 pecial guest DJ Twin Spin\r\n\r\nat Hello Stranger Bar, 1724 Broadway,
  Oakland. Doors 6pm. DJ Set starts at 9pm. No cover! Join twitch and w
 atch live stream at twitch.tv/trueskool\n\nFor more information visit 
 https://trueskool.com/events/golden-era-with-renoir-and-special-guest-
 dj-twin-spin
DTSTART;TZID=America/Los_Angeles:20220914T210000
DTEND;TZID=America/Los_Angeles:20220915T013000
CATEGORIES:oakland, "bay area"
LOCATION:Hello Stranger Bar, Oakland
WEBSITE:http://twitch.tv/trueskool
URL:http://twitch.tv/trueskool
CONTACT:
ORGANIZER:True Skool
ATTACH;FMTTYPE="image/jpeg":https://storage.ning.com/topology/rest/1.0
 /file/get/10810233292?profile=original
ATTENDEE;ROLE=REQ-PARTICIPANT;PARTSTAT=ACCEPTED;RSVP=TRUE;CN="Editor's
  Pick":https://trueskool.com/profile/RentheVinylArchaeologist
END:VEVENT
END:VCALENDAR
