BEGIN:VCALENDAR
PRODID:NingEventWidget-v1
VERSION:2.0
METHOD:PUBLISH
BEGIN:VTIMEZONE
TZID:America/Los_Angeles
X-LIC-LOCATION:America/Los_Angeles
BEGIN:DAYLIGHT
TZOFFSETFROM:-0800
TZOFFSETTO:-0700
TZNAME:PDT
DTSTART:19700308T020000
RRULE:FREQ=YEARLY;BYMONTH=3;BYDAY=2SU
END:DAYLIGHT
BEGIN:STANDARD
TZOFFSETFROM:-0700
TZOFFSETTO:-0800
TZNAME:PST
DTSTART:19701101T020000
RRULE:FREQ=YEARLY;BYMONTH=11;BYDAY=1SU
END:STANDARD
END:VTIMEZONE
BEGIN:VEVENT
UID:1464587:Event:632041
DTSTAMP:20260421T113220Z
SUMMARY:GOLDEN ERA (1st Saturdays) w/ special guest DJ Kevvy Kev @ Sla
 te Bar SF (Sat 7/4)
DESCRIPTION:\nSATURDAY MAY 4 True Skool presents GOLDEN ERA (1st Satur
 days) A Tribute to Classics From Hip Hop's Golden Era\n\nFEATURING SPE
 CIAL GUEST DJ:\nKevvy Kev (The Drum)\n\n@ Slate Bar, 2925 16th St., Sa
 n Francisco 10pm-2am | 21+\nFREE B4 11PM, $5 AFTER \n\nFor more infor
 mation visit https://trueskool.com/events/golden-era-1st-saturdays-w-s
 pecial-guest-dj-kevvy-kev-slate-bar-s
DTSTART;TZID=America/Los_Angeles:20150704T220000
DTEND;TZID=America/Los_Angeles:20150705T020000
CATEGORIES:"bay area", "san francisco"
LOCATION:Slate Bar, San Francisco
WEBSITE:https://goldenera-apr2015.eventbrite.com
URL:https://goldenera-apr2015.eventbrite.com
CONTACT:
ORGANIZER:True Skool
ATTACH;FMTTYPE="image/jpeg":http://storage.ning.com/topology/rest/1.0/
 file/get/2247971283?profile=original
ATTENDEE;ROLE=REQ-PARTICIPANT;PARTSTAT=ACCEPTED;RSVP=TRUE;CN="Ren the 
 Vinyl Archaeologist":https://trueskool.com/profile/xh51jvilojur
END:VEVENT
END:VCALENDAR
