BEGIN:VCALENDAR
PRODID:NingEventWidget-v1
VERSION:2.0
METHOD:PUBLISH
BEGIN:VTIMEZONE
TZID:America/Los_Angeles
X-LIC-LOCATION:America/Los_Angeles
BEGIN:DAYLIGHT
TZOFFSETFROM:-0800
TZOFFSETTO:-0700
TZNAME:PDT
DTSTART:19700308T020000
RRULE:FREQ=YEARLY;BYMONTH=3;BYDAY=2SU
END:DAYLIGHT
BEGIN:STANDARD
TZOFFSETFROM:-0700
TZOFFSETTO:-0800
TZNAME:PST
DTSTART:19701101T020000
RRULE:FREQ=YEARLY;BYMONTH=11;BYDAY=1SU
END:STANDARD
END:VTIMEZONE
BEGIN:VEVENT
UID:1464587:Event:52098
DTSTAMP:20260420T222336Z
SUMMARY:GOLDEN 4 Year Anniversary
DESCRIPTION:Golden Soundscapes presents...\nGOLDEN 4 YEAR ANNIVERSARY\
 nSaturday April 17, 2010\n\nEvery 3rd Saturday @ Laszlo Bar SF\nhip ho
 p, soul, reggae, classics\n\nGolden Residents:\nDJ ZITA (B.A.S.S.)\nDM
 ADNESS (Knowmadic DJs)\n\nHappy Birthday FIYAH LILLY!\n\n@ Laszlo Bar 
 SF\n2526 Mission St @ 21st\n9pm-2am, 21+ w/ID\nNO COVER ALL NIGHT!\n\n
 http://LaszloBar.com\nhttp://goldensoundscapes.com\nhttp://djzita.com\
 nhttp://deejaydmadness.blogspot.com\n\nListen/Free Downloads of Past L
 ive Mixes at GOLDEN here:\nhttp://soundcloud.com/dj-zita/sets/dj-zita-
 dmadness-midnight-mixes-live-at-golden\n\n\n\nFor more information vis
 it https://trueskool.com/events/golden-4-year-anniversary
DTSTART;TZID=America/Los_Angeles:20100417T210000
DTEND;TZID=America/Los_Angeles:20100418T020000
CATEGORIES:hip, hop, dancehall, reggae, "r&b", old, school, funk
LOCATION:Laszlo Bar SF, CA
WEBSITE:http://www.goldensoundscapes.com
URL:http://www.goldensoundscapes.com
CONTACT:
ORGANIZER;CN="Fiyah Lilly":https://trueskool.com/profile/FiyahLilly
ATTACH;FMTTYPE="image/jpeg":http://storage.ning.com/topology/rest/1.0/
 file/get/2247875180?profile=original
ATTENDEE;ROLE=REQ-PARTICIPANT;PARTSTAT=ACCEPTED;RSVP=TRUE;CN="Fiyah Li
 lly":https://trueskool.com/profile/FiyahLilly
END:VEVENT
END:VCALENDAR
