BEGIN:VCALENDAR
PRODID:NingEventWidget-v1
VERSION:2.0
METHOD:PUBLISH
BEGIN:VTIMEZONE
TZID:America/Los_Angeles
X-LIC-LOCATION:America/Los_Angeles
BEGIN:DAYLIGHT
TZOFFSETFROM:-0800
TZOFFSETTO:-0700
TZNAME:PDT
DTSTART:19700308T020000
RRULE:FREQ=YEARLY;BYMONTH=3;BYDAY=2SU
END:DAYLIGHT
BEGIN:STANDARD
TZOFFSETFROM:-0700
TZOFFSETTO:-0800
TZNAME:PST
DTSTART:19701101T020000
RRULE:FREQ=YEARLY;BYMONTH=11;BYDAY=1SU
END:STANDARD
END:VTIMEZONE
BEGIN:VEVENT
UID:1464587:Event:68918
DTSTAMP:20260420T130804Z
SUMMARY:Goapele (WIN TICKETS)
DESCRIPTION:CLICK HERE TO WIN A PAIR OF TICKETS:\nhttp://www.trueskool
 .com/group/wintickets\n\n\nTHURSDAY-SUNDAY, Nov 18-Nov 21, 2010\nGoape
 le\n\nThursday Show\n8PM/10PM: $24\n\nFriday & Saturday\n8pm & 10pm $2
 8\n\nSunday\n7pm $28/ 9pm show $24\n\nYoshi's Oakland\n510 Embarcadero
  West\nJack London Square\nOakland, CA 94607\n» BUY TICKETS\nOakland'
 s own Goapele possesses one of the most alluring and powerful voices, 
 injecting poignant words with both soul and substance. Her voice is qu
 ietly seductive, sexy, galvanizing and sweet. She brilliantly experime
 nts with skillful compositions and heart wrenching harmonies, all with
  a smooth as pearl delivery. Billboard Magazine says that \"Her name, 
 Goapele is just as intriguing as her music that organically mixes R& B
 , hip-hop, jazz, and electronica in introspective, candid songs that c
 olorfully reflect this soulful sista's diverse range and life experien
 ces.” These shows will sell out so get your tickets early!  \n\nFor 
 more information visit https://trueskool.com/events/goapele-win-ticket
 s
DTSTART;TZID=America/Los_Angeles:20101118T200000
DTEND;TZID=America/Los_Angeles:20101121T230000
CATEGORIES:oakland, ca
LOCATION:Yoshi's, Oakland, CA
WEBSITE:http://yoshis.inticketing.com/evlist.php?events=search&searchs
 tr=Goapele
URL:http://yoshis.inticketing.com/evlist.php?events=search&searchstr=G
 oapele
CONTACT:
ORGANIZER:Yoshi's Jazz Club and Japanese Restaurant
ATTACH;FMTTYPE="image/jpeg":http://storage.ning.com/topology/rest/1.0/
 file/get/2247854827?profile=original
ATTENDEE;ROLE=REQ-PARTICIPANT;PARTSTAT=ACCEPTED;RSVP=TRUE;CN="caramel 
 queen":https://trueskool.com/profile/caramelqueen
ATTENDEE;ROLE=REQ-PARTICIPANT;PARTSTAT=ACCEPTED;RSVP=TRUE;CN="Ren the 
 Vinyl Archaeologist":https://trueskool.com/profile/xh51jvilojur
END:VEVENT
END:VCALENDAR
