BEGIN:VCALENDAR
PRODID:NingEventWidget-v1
VERSION:2.0
METHOD:PUBLISH
BEGIN:VTIMEZONE
TZID:America/Los_Angeles
X-LIC-LOCATION:America/Los_Angeles
BEGIN:DAYLIGHT
TZOFFSETFROM:-0800
TZOFFSETTO:-0700
TZNAME:PDT
DTSTART:19700308T020000
RRULE:FREQ=YEARLY;BYMONTH=3;BYDAY=2SU
END:DAYLIGHT
BEGIN:STANDARD
TZOFFSETFROM:-0700
TZOFFSETTO:-0800
TZNAME:PST
DTSTART:19701101T020000
RRULE:FREQ=YEARLY;BYMONTH=11;BYDAY=1SU
END:STANDARD
END:VTIMEZONE
BEGIN:VEVENT
UID:1464587:Event:31200
DTSTAMP:20260421T002915Z
SUMMARY:Goapele
DESCRIPTION:Goapele\n\nThe Independent\n628 Divisadero (btwn Grove & H
 ayes)\nSan Francisco CA 94117\ndoors 8:30PM\nshow 9:00PM\n\nFor more i
 nformation visit https://trueskool.com/events/goapele-2
DTSTART;TZID=America/Los_Angeles:20090501T203000
DTEND;TZID=America/Los_Angeles:20090502T000000
CATEGORIES:soul, neosoul, "r&b"
LOCATION:The Independent, San Francisco, CA
WEBSITE:http://www.apeconcerts.com/popArtist07.cfm?cID=1911
URL:http://www.apeconcerts.com/popArtist07.cfm?cID=1911
CONTACT:
ORGANIZER:Another Planet Ent.
ATTACH;FMTTYPE="image/jpeg":http://storage.ning.com/topology/rest/1.0/
 file/get/2247854827?profile=original
ATTENDEE;ROLE=REQ-PARTICIPANT;PARTSTAT=ACCEPTED;RSVP=TRUE;CN=Spor:http
 s://trueskool.com/profile/KemiSpor
ATTENDEE;ROLE=REQ-PARTICIPANT;PARTSTAT=ACCEPTED;RSVP=TRUE;CN="Editor's
  Pick":https://trueskool.com/profile/RentheVinylArchaeologist
END:VEVENT
END:VCALENDAR
