BEGIN:VCALENDAR
PRODID:NingEventWidget-v1
VERSION:2.0
METHOD:PUBLISH
BEGIN:VTIMEZONE
TZID:America/Los_Angeles
X-LIC-LOCATION:America/Los_Angeles
BEGIN:DAYLIGHT
TZOFFSETFROM:-0800
TZOFFSETTO:-0700
TZNAME:PDT
DTSTART:19700308T020000
RRULE:FREQ=YEARLY;BYMONTH=3;BYDAY=2SU
END:DAYLIGHT
BEGIN:STANDARD
TZOFFSETFROM:-0700
TZOFFSETTO:-0800
TZNAME:PST
DTSTART:19701101T020000
RRULE:FREQ=YEARLY;BYMONTH=11;BYDAY=1SU
END:STANDARD
END:VTIMEZONE
BEGIN:VEVENT
UID:1464587:Event:70993
DTSTAMP:20260420T163406Z
SUMMARY:**Go BANG! Turns 2! SAT/11/27 with KEN VULSION! Atomic Dancefl
 oor Disco Action!**
DESCRIPTION:Go BANG! Turns 2!\nAtomic Dancefloor Disco Action!\nSATURD
 AY NOVEMBER 27, 2010\nDECO LOUNGE / 510 Larkin & Turk St.\n9P-LATE! / 
 $5 + FREE BEFORE 10 + FREE BEFORE 11 with RSVP at Going: http://sanfra
 ncisco.going.com/gobang\n\n**Special Guest: KEN VULSION (HONEYSOUNDSYS
 TEM)\n**LIVE PERFORMANCE by Tres Lingerie featuring JAMES ANTHONY!\n*R
 esidents: STEVE FABUS / STANLEY FRANK / TRES LINGERIE / SERGIO / FLIGH
 T\n**Featuring EDDIE HOUSE's Birthday Celebration!\n*Co-Pro/Hosted By:
  BRENDEN\n*Photos By: Darwin Bell\n*Coats By: Jon!\n\nSan Francisco ha
 s a diverse disco scene that often crosses over but not often enough! 
 The goal of Go BANG! is to bring the crews and their devoted dancers t
 ogether in a mixed, diverse, exciting environment, with a nod to the d
 iversity and freedom of the 70's/80's San Francisco/New York/Chicago d
 isco nightlife!\n\nDisco freaks, art school boys & girls, drag queens 
 & kings, boogie-heads, fierce dancers, flashy dressers, sexy girls, ho
 t boys, DJs, dancers, photographers, artists, fashionistas; gay/straig
 ht/bi/tri/whateva! Bring your flashiest, trashiest, classiest, sexiest
 , craziest style; but bring an open mind, big smile, and shoes that wi
 ll allow you to dance from opening to last call! We will start with fi
 re and end with fire!\n\nTaking inspiration from the classic Dinosaur 
 L. song\n\"I wanna see all my friends at once\nI'll do anything to get
  a chance to\nGoooo BANG!\"\n\nGo BANG! on FACEBOOK: http://www.facebo
 ok.com/GoBANGSF\nGo BANG! online: http://www.gobangsf.com\n\nFor more 
 information visit https://trueskool.com/events/go-bang-turns-2-sat1127
 -with
DTSTART;TZID=America/Los_Angeles:20101127T210000
DTEND;TZID=America/Los_Angeles:20101128T030000
CATEGORIES:san, francisco, ca
LOCATION:Deco Lounge, San Francisco
WEBSITE:http://www.decosf.com
URL:http://www.decosf.com
CONTACT:
ORGANIZER;CN=Sergio:https://trueskool.com/profile/Sergio
ATTACH;FMTTYPE="image/jpeg":http://storage.ning.com/topology/rest/1.0/
 file/get/2247887033?profile=original
ATTENDEE;ROLE=REQ-PARTICIPANT;PARTSTAT=ACCEPTED;RSVP=TRUE;CN=Sergio:ht
 tps://trueskool.com/profile/Sergio
END:VEVENT
END:VCALENDAR
