BEGIN:VCALENDAR
PRODID:NingEventWidget-v1
VERSION:2.0
METHOD:PUBLISH
BEGIN:VTIMEZONE
TZID:America/Los_Angeles
X-LIC-LOCATION:America/Los_Angeles
BEGIN:DAYLIGHT
TZOFFSETFROM:-0800
TZOFFSETTO:-0700
TZNAME:PDT
DTSTART:19700308T020000
RRULE:FREQ=YEARLY;BYMONTH=3;BYDAY=2SU
END:DAYLIGHT
BEGIN:STANDARD
TZOFFSETFROM:-0700
TZOFFSETTO:-0800
TZNAME:PST
DTSTART:19701101T020000
RRULE:FREQ=YEARLY;BYMONTH=11;BYDAY=1SU
END:STANDARD
END:VTIMEZONE
BEGIN:VEVENT
UID:1464587:Event:50905
DTSTAMP:20260421T155015Z
SUMMARY:Go BANG! POW! KABOOM! SuperHero Party! Atomic Dancefloor DISCO
  Action!
DESCRIPTION:Saturday March 27!\nGo BANG! Atomic Dancefloor DISCO Actio
 n!\nPresents...\n***Go BANG! POW! KABOOM! SuperHero Party!***\nDress u
 p as your favorite hero or villain, real or made up, naughty or nice! 
 :)\n\n**Special Guest DJs:\nNEON LEON & TAL M KLEIN\n\n**9PM Balearic 
 LiftOff Set by JIM HOPKINS\n\n**Disco Diva Performance by DUPLICITY\n\
 n**Go BANG!'s devoted fan, SuperLover7 celebrates her birthday!\n\n**W
 ith your Go BANG! RESIDENTS:\nSTEVE FABUS (I-Beam)\nNICKY B (Gemini Di
 sco)\nSERGIO (KALX / KiNkY BeAtS)\n\n**CO-PRO/HOSTED BY\nSTEPHEN !YOUG
 UYS! (Chilidog! / Viennetta)\n\n**PHOTOS BY\nDARWIN BELL\n\nDeco Loung
 e\n510 Larkin @ Turk\n9P-LATE!\n$5 (cheap!)\nFREE BEFORE 10 + FREE BEF
 ORE 11 with RSVP at Going: http://sanfrancisco.going.com/gobang\n\n**G
 ot a birthday that weekend?! Get in touch with us and we'll help you c
 elebrate it with a BANG!**\n\nDRINK SPECIALS: $3 Bud Drafts / $3.50 Ja
 eger Shots / $3.75 VodkaCran\n\nPHOTOS FROM THE LAST BANG! by Darwin B
 ell:\nhttp://www.facebook.com/album.php?aid=194464&id=118319468384\n\n
 MIXES from last month:\nhttp://soundcloud.com/go-bang\n\nJOIN OUR PAGE
 : http://www.facebook.com/pages/Go-BANG/118319468384\n\nSan Francisco 
 has a diverse disco scene that often crosses over but not often enough
 ! The goal of Go BANG! is to bring the crews and their devoted dancers
  together in a mixed, diverse, exciting environment, with a nod to the
  diversity and freedom of the 70's/80's New York/Chicago/San Francisco
  disco nightlife\n\nDisco freaks, art school boys & girls, drag queens
  & kings, boogie-heads, fierce dancers, flashy dressers, sexy girls, h
 ot boys, DJs, dancers, photographers, artists, fashionistas; gay/strai
 ght/bi/tri/whateva! Bring your flashiest, trashiest, classiest, sexies
 t, craziest style; but bring an open mind, big smile, and shoes that w
 ill allow you to dance from opening to last call! We will start with f
 ire and end with fire!\n\nTaking inspiration from the classic Dinosaur
  L. song\n\"I wanna see all my friends at once\nI'll do anything to ge
 t a chance to\nGoooo BANG!\"\n\nFor more information visit https://tru
 eskool.com/events/go-bang-pow-kaboom-superhero
DTSTART;TZID=America/Los_Angeles:20100327T210000
DTEND;TZID=America/Los_Angeles:20100328T030000
CATEGORIES:disco, house, boogie, funk, soul, italo, eletro
LOCATION:San Francisco, CA
WEBSITE:http://www.facebook.com/pages/Go-BANG/118319468384
URL:http://www.facebook.com/pages/Go-BANG/118319468384
CONTACT:
ORGANIZER;CN=Sergio:https://trueskool.com/profile/Sergio
ATTACH;FMTTYPE="image/jpeg":http://storage.ning.com/topology/rest/1.0/
 file/get/2247876058?profile=original
ATTENDEE;ROLE=REQ-PARTICIPANT;PARTSTAT=ACCEPTED;RSVP=TRUE;CN=Sergio:ht
 tps://trueskool.com/profile/Sergio
END:VEVENT
END:VCALENDAR
