BEGIN:VCALENDAR
PRODID:NingEventWidget-v1
VERSION:2.0
METHOD:PUBLISH
BEGIN:VTIMEZONE
TZID:America/Los_Angeles
X-LIC-LOCATION:America/Los_Angeles
BEGIN:DAYLIGHT
TZOFFSETFROM:-0800
TZOFFSETTO:-0700
TZNAME:PDT
DTSTART:19700308T020000
RRULE:FREQ=YEARLY;BYMONTH=3;BYDAY=2SU
END:DAYLIGHT
BEGIN:STANDARD
TZOFFSETFROM:-0700
TZOFFSETTO:-0800
TZNAME:PST
DTSTART:19701101T020000
RRULE:FREQ=YEARLY;BYMONTH=11;BYDAY=1SU
END:STANDARD
END:VTIMEZONE
BEGIN:VEVENT
UID:1464587:Event:61750
DTSTAMP:20260421T005817Z
SUMMARY:Go BANG! In PARADISE! with DJ SAID, HARD FRENCH DJs, TAL M KLE
 IN+MORE!
DESCRIPTION:Go BANG!\nATOMIC DANCEFLOOR DISCO ACTION!\nSATURDAY JULY 3
 1, 2010\nPARADISE LOUNGE / 1501 Folsom & 11th St.\n9P-LATE! / $5 + FRE
 E BEFORE 10 + FREE BEFORE 11 with RSVP at Going: http://sanfrancisco.g
 oing.com/gobang\n\n**Special Guest: DJ Said (Fatsouls Records, We & Th
 e Music)\n*Featuring: HARD FRENCH DJs Carnitas & Brown Amy, Tal M Klei
 n, Kimmy LeFunk\n*RESIDENTS: STEVE FABUS, SERGIO\n*CO-PRO/HOSTED BY: S
 TEPHEN !YOUGUYS!\n*PHOTOS BY: DARWIN BELL\n\n**Got a birthday that wee
 kend?! Get in touch with us and we'll help you celebrate it with a BAN
 G!**\n\nSan Francisco has a diverse disco scene that often crosses ove
 r but not often enough! The goal of Go BANG! is to bring the crews and
  their devoted dancers together in a mixed, diverse, exciting environm
 ent, with a nod to the diversity and freedom of the 70's/80's San Fran
 cisco/New York/Chicago disco nightlife!\n\nDisco freaks, art school bo
 ys & girls, drag queens & kings, boogie-heads, fierce dancers, flashy 
 dressers, sexy girls, hot boys, DJs, dancers, photographers, artists, 
 fashionistas; gay/straight/bi/tri/whateva! Bring your flashiest, trash
 iest, classiest, sexiest, craziest style; but bring an open mind, big 
 smile, and shoes that will allow you to dance from opening to last cal
 l! We will start with fire and end with fire!\n\nTaking inspiration fr
 om the classic Dinosaur L. song\n\"I wanna see all my friends at once\
 nI'll do anything to get a chance to\nGoooo BANG!\"\n\nGo BANG! on FAC
 EBOOK: http://www.facebook.com/GoBANGSF\nGo BANG! online: http://www.g
 obangsf.com\n\n==\n\n**Special Guest: DJ Said (Fatsouls Records, We & 
 The Music)\n\nDJ Said of Fatsouls Records has brought a soulful Africa
 n brand of percussion-based deep house to a distinct slice of the unde
 rground in San Francisco. Said has spun at his Atmosfere events and ma
 ny other clubs around the world alongside the likes of Francois K, Joe
  Claussell, Danny Krivit, Kenny Carpenter, Miguel Migs and countless o
 thers. His original productions have been released on many an influent
 ial label including Ibadan, Chez & Wave Music. His main influence is d
 erived from Afrobeat, Highlife Jazz, Juju, and other music from his Yo
 ruba root and numerous global music which he absorbed during his forma
 tive years. As a teenager, Said sorted after his sibling’s extraordi
 nary musical interests and record collection. During this period he re
 calls hearing American Disco (one of his favorites - T-Connection's \"
 Saturday Night\") in addition to regional Nigerian disco acts. In 1984
 , Said moved from his hometown Lagos, Nigeria to England as a scholar.
  While in England, he gained a vast knowledge of the London club scene
  through direct experience and connections. Said currently heads Fatso
 uls Records, a San Francisco-based independent record label founded in
  2007. Said currently promotes “We & The Music” a monthly event wi
 th emphasis on House, Afrobeat and other Soulful Afro - Rhythms. He is
  excited to be able to present some of his favorite & influential disc
 o stompers at this month's Go BANG!\n\nFor more information visit http
 s://trueskool.com/events/go-bang-in-paradise-with-dj
DTSTART;TZID=America/Los_Angeles:20100731T210000
DTEND;TZID=America/Los_Angeles:20100801T030000
CATEGORIES:disco, house, boogie, funk, soul, italo, electro, mixed, ga
 y, lesbian
LOCATION:PARADISE LOUNGE
WEBSITE:http://www.paradisesf.com/
URL:http://www.paradisesf.com/
CONTACT:
ORGANIZER;CN=Sergio:https://trueskool.com/profile/Sergio
ATTACH;FMTTYPE="image/jpeg":http://storage.ning.com/topology/rest/1.0/
 file/get/2247881958?profile=original
ATTENDEE;ROLE=REQ-PARTICIPANT;PARTSTAT=ACCEPTED;RSVP=TRUE;CN=Sergio:ht
 tps://trueskool.com/profile/Sergio
END:VEVENT
END:VCALENDAR
