BEGIN:VCALENDAR
PRODID:NingEventWidget-v1
VERSION:2.0
METHOD:PUBLISH
BEGIN:VTIMEZONE
TZID:America/Los_Angeles
X-LIC-LOCATION:America/Los_Angeles
BEGIN:DAYLIGHT
TZOFFSETFROM:-0800
TZOFFSETTO:-0700
TZNAME:PDT
DTSTART:19700308T020000
RRULE:FREQ=YEARLY;BYMONTH=3;BYDAY=2SU
END:DAYLIGHT
BEGIN:STANDARD
TZOFFSETFROM:-0700
TZOFFSETTO:-0800
TZNAME:PST
DTSTART:19701101T020000
RRULE:FREQ=YEARLY;BYMONTH=11;BYDAY=1SU
END:STANDARD
END:VTIMEZONE
BEGIN:VEVENT
UID:1464587:Event:59581
DTSTAMP:20260421T083022Z
SUMMARY:Go BANG! Go PRIDE! With JASON KENDIG (HoneySoundSystem)
DESCRIPTION:Go BANG! Go PRIDE!\nATOMIC DANCEFLOOR DISCO ACTION!\nSATUR
 DAY JUNE 26, 2010\nDECO LOUNGE / 510 Larkin & Turk\n9P-LATE! / $5 (che
 ap!) + FREE BEFORE 10 + FREE BEFORE 11 with RSVP at Going: http://sanf
 rancisco.going.com/gobang\n\n**Special Guest: JASON KENDIG of San Fran
 cisco's HONEYSOUNDSYSTEM!\n*Balearic Sleaze 9PM LiftOff Set By: MARCEL
 INO ANDRADE (Casablanca / Medium Rare Music)\n*Featuring: SamS (Samuel
  Schneider)\n*RESIDENTS: STEVE FABUS, SERGIO, TRES LINGERIE\n\n*Go BAN
 G! on FACEBOOK: http://www.facebook.com/GoBANGSF\n*Pictures From Last 
 Month: http://www.facebook.com/album.php?aid=217638&id=118319468384&l=
 1fc2239c6c\n*Go BANG! Live Mixes: http://soundcloud.com/go-bang\n*Flye
 r: http://www.gobangsf.com/GoBANG-back.jpg\n\nSan Francisco has a dive
 rse disco scene that often crosses over but not often enough! The goal
  of Go BANG! is to bring the crews and their devoted dancers together 
 in a mixed, diverse, exciting environment, with a nod to the diversity
  and freedom of the 70's/80's San Francisco/New York/Chicago disco nig
 htlife!\n\nDisco freaks, art school boys & girls, drag queens & kings,
  boogie-heads, fierce dancers, flashy dressers, sexy girls, hot boys, 
 DJs, dancers, photographers, artists, fashionistas; gay/straight/bi/tr
 i/whateva! Bring your flashiest, trashiest, classiest, sexiest, crazie
 st style; but bring an open mind, big smile, and shoes that will allow
  you to dance from opening to last call! We will start with fire and e
 nd with fire!\n\nTaking inspiration from the classic Dinosaur L. song\
 n\"I wanna see all my friends at once\nI'll do anything to get a chanc
 e to\nGoooo BANG!\"\n\n==\n\n**Special Guest: JASON KENDIG of San Fran
 cisco's Best Gay Heavy Dance Collective, HONEYSOUNDSYSTEM!\n\nJason be
 gan collecting records in Detroit in the Early 90's and fell in love w
 ith DJing shortly thereafter. He is obsessed with Disco, Italo, classi
 c Chicago House & early Detroit Techno. He was one of the original res
 idents at legendary & long-running FAMILY Detroit party. He has DJed t
 hroughout the United States and in Europe at clubs & parties like Hors
 e Meat Disco (London), Club Lux (Lisbon), Tripod (Dublin), Pratersauna
  & Fluc Wanne (Vienna), Berghain (Berlin) and Hafen 2 (Frankfurt). Jas
 on was also recently tapped to do a guest mix on the Legendary Beats I
 n Space Radio show: http://www.beatsinspace.net/playlists/515\n\nHe is
  currently resident for San Francisco's Superb HONEYSOUNDSYSTEM Crew. 
 His song, \"SK-1\" is a highlight of HONEYSOUNDSYSTEM's \"Brotherhood\
 " Compilation, and look for upcoming releases on MR.INTL (a label co-r
 un by Jason & Andy Butler of Hercules & Love Affair).\n\nFind Jason Ke
 ndig on...\nFacebook: http://www.facebook.com/kendig\nBrotherhood Comp
 ilation: http://www.deejaypeeplay.com/Brotherhood/brotherhood2.html\n\
 nFor more information visit https://trueskool.com/events/go-bang-go-pr
 ide-with-jason
DTSTART;TZID=America/Los_Angeles:20100626T210000
DTEND;TZID=America/Los_Angeles:20100627T150000
CATEGORIES:disco, house, boogie, funk, soul, italo, eletro, pride, mix
 ed, gay, lesbian
LOCATION:Deco Lounge, San Francisco
WEBSITE:http://www.facebook.com/GoBANGSF
URL:http://www.facebook.com/GoBANGSF
CONTACT:
ORGANIZER;CN=Sergio:https://trueskool.com/profile/Sergio
ATTACH;FMTTYPE="image/jpeg":http://storage.ning.com/topology/rest/1.0/
 file/get/2247881321?profile=original
ATTENDEE;ROLE=REQ-PARTICIPANT;PARTSTAT=ACCEPTED;RSVP=TRUE;CN=Sergio:ht
 tps://trueskool.com/profile/Sergio
END:VEVENT
END:VCALENDAR
