BEGIN:VCALENDAR
PRODID:NingEventWidget-v1
VERSION:2.0
METHOD:PUBLISH
BEGIN:VTIMEZONE
TZID:America/Los_Angeles
X-LIC-LOCATION:America/Los_Angeles
BEGIN:DAYLIGHT
TZOFFSETFROM:-0800
TZOFFSETTO:-0700
TZNAME:PDT
DTSTART:19700308T020000
RRULE:FREQ=YEARLY;BYMONTH=3;BYDAY=2SU
END:DAYLIGHT
BEGIN:STANDARD
TZOFFSETFROM:-0700
TZOFFSETTO:-0800
TZNAME:PST
DTSTART:19701101T020000
RRULE:FREQ=YEARLY;BYMONTH=11;BYDAY=1SU
END:STANDARD
END:VTIMEZONE
BEGIN:VEVENT
UID:1464587:Event:68439
DTSTAMP:20260420T132228Z
SUMMARY:Go BANG! Go BOO! SAT/10/30/10 with André Lucero & Glenn River
 a! Atomic Dancefloor Disco COSTUME PARTY!
DESCRIPTION:**SPECIAL 5th SATURDAY EDITION**\nCOSTUMES STRONGLY ENCOUR
 AGED!\n**SPECIAL 5th SATURDAY EDITION**\n\nGo BANG!\nAtomic Dancefloor
  Disco COSTUME PARTY!\nSATURDAY OCTOBER 30, 2010\nDECO LOUNGE / 510 La
 rkin & Turk St.\n9P-LATE! / $5 + FREE BEFORE 10 + FREE BEFORE 11 with 
 RSVP at Going: http://sanfrancisco.going.com/gobang\n\n**André Lucero
  (Fiction) Go BANG! Debut!\n**Glenn Rivera (Shades of Seventies) Retur
 ns to Go BANG!\n*Residents: Steve Fabus, Sergio, Tres Lingerie\n*Co-Pr
 o/Hosted By: Stephen !YOUGUYS!\n*Photos By: Darwin Bell\n*Coats By: Al
 exandra\n\n*DRINK SPECIALS: $2 PBR, $3.75 Jaeger, $3.75 Vodka Cranberr
 y, $5 Skyy Ginger & Ginger Ale\n\n**Got a birthday that weekend?! Get 
 in touch with us and we'll help you celebrate it with a BANG!**\n\nSan
  Francisco has a diverse disco scene that often crosses over but not o
 ften enough! The goal of Go BANG! is to bring the crews and their devo
 ted dancers together in a mixed, diverse, exciting environment, with a
  nod to the diversity and freedom of the 70's/80's San Francisco/New Y
 ork/Chicago disco nightlife!\n\nDisco freaks, art school boys & girls,
  drag queens & kings, boogie-heads, fierce dancers, flashy dressers, s
 exy girls, hot boys, DJs, dancers, photographers, artists, fashionista
 s; gay/straight/bi/tri/whateva! Bring your flashiest, trashiest, class
 iest, sexiest, craziest style; but bring an open mind, big smile, and 
 shoes that will allow you to dance from opening to last call! We will 
 start with fire and end with fire!\n\nTaking inspiration from the clas
 sic Dinosaur L. song\n\"I wanna see all my friends at once\nI'll do an
 ything to get a chance to\nGoooo BANG!\"\n\nGo BANG! on FACEBOOK: http
 ://www.facebook.com/GoBANGSF\nGo BANG! online: http://www.gobangsf.com
 \n\nEnjoy...\n\n*Pictures From Last Month: http://www.facebook.com/alb
 um.php?aid=287249&l=dc8d9db524&id=118319468384\n\n*Go BANG! Live Mixes
 : http://soundcloud.com/go-bang\n\nFor more information visit https://
 trueskool.com/events/go-bang-go-boo-sat103010-with
DTSTART;TZID=America/Los_Angeles:20101030T210000
DTEND;TZID=America/Los_Angeles:20101031T030000
CATEGORIES:disco, funk, soul, boogie, italo
LOCATION:San Francisco, CA
WEBSITE:http://www.facebook.com/event.php?eid=120136434709380
URL:http://www.facebook.com/event.php?eid=120136434709380
CONTACT:
ORGANIZER;CN=Sergio:https://trueskool.com/profile/Sergio
ATTACH;FMTTYPE="image/jpeg":http://storage.ning.com/topology/rest/1.0/
 file/get/2247884945?profile=original
ATTENDEE;ROLE=REQ-PARTICIPANT;PARTSTAT=ACCEPTED;RSVP=TRUE;CN=Sergio:ht
 tps://trueskool.com/profile/Sergio
END:VEVENT
END:VCALENDAR
