BEGIN:VCALENDAR
PRODID:NingEventWidget-v1
VERSION:2.0
METHOD:PUBLISH
BEGIN:VTIMEZONE
TZID:America/Los_Angeles
X-LIC-LOCATION:America/Los_Angeles
BEGIN:DAYLIGHT
TZOFFSETFROM:-0800
TZOFFSETTO:-0700
TZNAME:PDT
DTSTART:19700308T020000
RRULE:FREQ=YEARLY;BYMONTH=3;BYDAY=2SU
END:DAYLIGHT
BEGIN:STANDARD
TZOFFSETFROM:-0700
TZOFFSETTO:-0800
TZNAME:PST
DTSTART:19701101T020000
RRULE:FREQ=YEARLY;BYMONTH=11;BYDAY=1SU
END:STANDARD
END:VTIMEZONE
BEGIN:VEVENT
UID:1464587:Event:30809
DTSTAMP:20260420T194350Z
SUMMARY:Go BANG! Atomic Dancefloor Disco Action!
DESCRIPTION:Saturday April 25 @ DECO SF\nAtomic Dancefloor Disco Actio
 n\n510 Larkin @ Turk\n10P-4AM - LATE!\n$5 (cheap!)\nFREE before 11 WIT
 H http://sanfrancisco.going.com/gobangApril RSVP\n$3 Buds, $3.75 Vodka
  Cranberry - before midnight!\nhttp://www.facebook.com/group.php?gid=4
 6376669421\nGot a birthday that weekend?! Get in touch with us and we'
 ll help you celebrate it with a BANG!\n===\n\nSan Francisco has a dive
 rse disco scene that often crosses over but not often enough! The goal
  of Go BANG! is to bring the crews and their devoted dancers together 
 in a mixed, diverse, exciting environment, with a nod to the diversity
  and freedom of the 70's/80's New York/Chicago/San Francisco disco nig
 htlife\n\nDisco freaks, art school boys & girls, drag queens & kings, 
 boogie-heads, fierce dancers, flashy dressers, sexy girls, hot boys, D
 Js, dancers, photographers, artists, fashionistas; gay/straight/bi/tri
 /whateva!\n\nThe party's goal is to make the room hot, sweaty, sticky 
 and have it EXPLODE!\n\nBring your flashiest, trashiest, classiest, se
 xiest, craziest style; but bring an open mind, big smile, and shoes th
 at will allow you to dance from opening to last call! We will start wi
 th fire and end with fire!\n\nTaking inspiration from the classic Dino
 saur L. song\n\"I wanna see all my friends at once\nI'll do anything t
 o get a chance to\nGoooo BANG!\"\n\nLove,\n\nSergio (KALX / KiNkY BeAt
 S)\nStanley (Chilidog!)\nNicky B. (Gemini Disco / Ferrari Party)\nEddy
  Bauer (KALX / Missouri Lounge)\nFlight (Gotsoul / Galaxy Group)\nStep
 hen !YOU GUYS! (our lovely door bunny)\n\nPICTURES FROM LAST MONTH\n\n
 Go BANG! March 28, 2009 LIVE Mix\n\nDownload the FULL party mix\nMP3: 
 http://www.sergioaudio.com/MP3/GoBANG-03-28-09-FULL.mp3\nM3U: http://w
 ww.sergioaudio.com/MP3/M3U/GoBANG-03-28-09-FULL.m3u\n\nIndividual mixe
 s & setlist info HERE\n\nFor more information visit https://trueskool.
 com/events/go-bang-atomic-dancefloor
DTSTART;TZID=America/Los_Angeles:20090425T220000
DTEND;TZID=America/Los_Angeles:20090426T040000
CATEGORIES:disco, funk, house
LOCATION:Deco Lounge
WEBSITE:http://www.facebook.com/group.php?gid=46376669421
URL:http://www.facebook.com/group.php?gid=46376669421
CONTACT:
ORGANIZER;CN=Sergio:https://trueskool.com/profile/Sergio
ATTACH;FMTTYPE="image/jpeg":http://storage.ning.com/topology/rest/1.0/
 file/get/2247855838?profile=original
ATTENDEE;ROLE=REQ-PARTICIPANT;PARTSTAT=ACCEPTED;RSVP=TRUE;CN=Sergio:ht
 tps://trueskool.com/profile/Sergio
END:VEVENT
END:VCALENDAR
