BEGIN:VCALENDAR
PRODID:NingEventWidget-v1
VERSION:2.0
METHOD:PUBLISH
BEGIN:VTIMEZONE
TZID:America/Los_Angeles
X-LIC-LOCATION:America/Los_Angeles
BEGIN:DAYLIGHT
TZOFFSETFROM:-0800
TZOFFSETTO:-0700
TZNAME:PDT
DTSTART:19700308T020000
RRULE:FREQ=YEARLY;BYMONTH=3;BYDAY=2SU
END:DAYLIGHT
BEGIN:STANDARD
TZOFFSETFROM:-0700
TZOFFSETTO:-0800
TZNAME:PST
DTSTART:19701101T020000
RRULE:FREQ=YEARLY;BYMONTH=11;BYDAY=1SU
END:STANDARD
END:VTIMEZONE
BEGIN:VEVENT
UID:1464587:Event:37443
DTSTAMP:20260420T213148Z
SUMMARY:Go BANG! Atomic Dancefloor Disco Action! With Tamara Palmer (C
 ountry Fried Soul / SF Weekly) + Cole Medina (House Arrest, LA)
DESCRIPTION:San Francisco has a diverse disco scene that often crosses
  over but not often enough! The goal of Go BANG! is to bring the crews
  and their devoted dancers together in a mixed, diverse,... exciting e
 nvironment, with a nod to the diversity and freedom of the 70's/80's N
 ew York/Chicago/San Francisco disco nightlife.\n\nDisco freaks, art sc
 hool boys & girls, drag queens & kings, boogie-heads, fierce dancers, 
 flashy dressers, sexy girls, hot boys, DJs, dancers, photographers, ar
 tists, fashionistas; gay/straight/bi/tri/whateva!\n\nThe party's goal 
 is to make the room hot, sweaty, sticky and have it EXPLODE!\n\nBring 
 your flashiest, trashiest, classiest, sexiest, craziest style; but bri
 ng an open mind, big smile, and shoes that will allow you to dance fro
 m opening to last call! We will start with fire and end with fire!\n\n
 Taking inspiration from the classic Dinosaur L. song\n\"I wanna see al
 l my friends at once\nI'll do anything to get a chance to\nGoooo BANG!
 \"\n\nOur SPECIAL GUEST this month: Tamara Palmer (Country Fried Soul 
 / SF Weekly)\n\nPlus SPECIAL GUEST just added: Cole Medina (House Arre
 st, LA)\n\nDRINK SPECIALS: $3 Bud Drafts / $3.50 Jaeger Shots / $3.75 
 VodkaCran\n\n===\n\n\nPast Go BANG! LIVE Mix\n\nGo BANG! June 2009 FUL
 L NIGHT uncut:\nhttp://www.gobangsf.com/MP3/GoBANG-06-27-09-FULL.mp3\n
 \n\nSELECT MIXES:\n\nSergio (KALX / KiNkY BeAtS)\nhttp://www.gobangsf.
 com/MP3/GoBANG-06-27-09-Sergio.mp3\nJohn Ozilla - Funky Boogie (Pat Le
 s Stache's Chant N Boogie Re-edit)\nArchie Bell & The Drells - Any Tim
 e Is The Right Time (DJ Apt One Edit)\nDimitri From Paris - Madd Luck\
 nTwo Tons O' Fun - Earth Can Be Just Like Heaven (Glenn Rivera ReStruc
 ture Mix)\nCarl Bean - I Was Born This Way\nMach - On & On\nMichael Ja
 ckson - Don't Stop 'Til You Get Enough\nAsha Puthli - I'm Gonna Dance\
 nTrance Dance - Do The Dance (Chris Chop Shop Mix)\nTony Valor Sounds 
 Orchestra - Love Has Come My Way\nSergio Mendes & Brasil '88 - I'll Te
 ll You\n\n\nNicky B. (Gemini Disco)\nhttp://www.gobangsf.com/MP3/GoBAN
 G-06-27-09-NickyB.mp3\nChantal Curtis - Hit Man\nDon Ray - Standing In
  The Rain\nQ - The Voice Of Q (Vocal Version)\nEvelyn Thomas - High En
 ergy\nKlapto - Mister Game\nSexual Harassment - I Need A Freak\nKlein 
 & MBO - Dirty Talk\nMagazine 60 - Don Quichotte\nIMS - Dancing Therapy
 \nMy Mine - Hypnotic Tango\n\n\nStanley (Chilidog!)\nhttp://www.gobang
 sf.com/MP3/GoBANG-06-27-09-Stanley.mp3\n1. roundtree - hit on you\n2. 
 l.s.b. - fog\n3. klapto- mister game\n4. a.l.t.'s - eden roc\n5. dream
  syndicate - 50 in a 25 zone\n6. the thomspon twins - beach culture\n7
 . electra - feels good\n8. evelyn \"champagne\" king - i'm in love\n9.
  (?) - i love new york\n10. firefly - kiss power\n\n\nKen Vulsion (HON
 EYSOUNDSYSTEM)\nhttp://www.gobangsf.com/MP3/GoBANG-06-27-09-KenVulsion
 .mp3\nVillage People - \"Fire Island\" Horse Meat Disco Edit\nBohannon
  - \"Let's Start The Dance\"\nGregg Diamond - \"Danger\"\nKano - \"It'
 s War\"\nGeorge Kranz - \"Din Daa Daa\"\nBlack Riot - \"A Day In the L
 ife\"\nNew Life - \"Got 2 B Free\"\nInner City - \"Good Life\" Kenny C
 arpenter Mix\nMachine - \"There But For the Grace of God\"\nThe Dells 
 - \"No Way Back\" Black Cock Edit\nThink Twice - \"Waiting For You\"\n
 Blaze - \"How Deep is Your Love\"\nThe Intruders - \"I'll Always Love 
 My Mama\"\nC J & Co. - \"Devil's Gun\"\nTalking Heads - \"Life During 
 Wartime\" Live\nMicheal Jackson - \"I Can't Help It\" Todd Terje Edit\
 n\nFor more information visit https://trueskool.com/events/go-bang-ato
 mic-dancefloor-2
DTSTART;TZID=America/Los_Angeles:20090822T220000
DTEND;TZID=America/Los_Angeles:20090823T040000
CATEGORIES:disco, electro, funk, boogie, euro, italo
LOCATION:Deco Lounge, San Francisco
WEBSITE:http://www.facebook.com/pages/Go-BANG/118319468384
URL:http://www.facebook.com/pages/Go-BANG/118319468384
CONTACT:5107984908
ORGANIZER;CN=Sergio:https://trueskool.com/profile/Sergio
ATTACH;FMTTYPE="image/jpeg":http://storage.ning.com/topology/rest/1.0/
 file/get/2247860762?profile=original
ATTENDEE;ROLE=REQ-PARTICIPANT;PARTSTAT=ACCEPTED;RSVP=TRUE;CN=Sergio:ht
 tps://trueskool.com/profile/Sergio
END:VEVENT
END:VCALENDAR
