BEGIN:VCALENDAR
PRODID:NingEventWidget-v1
VERSION:2.0
METHOD:PUBLISH
BEGIN:VTIMEZONE
TZID:America/Los_Angeles
X-LIC-LOCATION:America/Los_Angeles
BEGIN:DAYLIGHT
TZOFFSETFROM:-0800
TZOFFSETTO:-0700
TZNAME:PDT
DTSTART:19700308T020000
RRULE:FREQ=YEARLY;BYMONTH=3;BYDAY=2SU
END:DAYLIGHT
BEGIN:STANDARD
TZOFFSETFROM:-0700
TZOFFSETTO:-0800
TZNAME:PST
DTSTART:19701101T020000
RRULE:FREQ=YEARLY;BYMONTH=11;BYDAY=1SU
END:STANDARD
END:VTIMEZONE
BEGIN:VEVENT
UID:1464587:Event:32278
DTSTAMP:20260420T180836Z
SUMMARY:Go BANG! Atomic Dancefloor Disco Action!
DESCRIPTION:\n\nSaturday May 23 @ DECO SF\nAtomic Dancefloor Disco Act
 ion\nSPECIAL GUEST STAR: Ms. Rebecca Watkins (ArtNowSF)!\n510 Larkin @
  Turk\n10P-4AM - LATE!\n$5 (cheap!)\nFREE before 11 WITH http://sanfra
 ncisco.going.com/gobang RSVP\n$3 Buds, $3.75 Vodka Cranberry - before 
 midnight!\nhttp://www.facebook.com/group.php?gid=46376669421\nGot a bi
 rthday that weekend?! Get in touch with us and we'll help you celebrat
 e it with a BANG!\n===\n\nSan Francisco has a diverse disco scene that
  often crosses over but not often enough! The goal of Go BANG! is to b
 ring the crews and their devoted dancers together in a mixed, diverse,
  exciting environment, with a nod to the diversity and freedom of the 
 70's/80's New York/Chicago/San Francisco disco nightlife\n\nDisco frea
 ks, art school boys & girls, drag queens & kings, boogie-heads, fierce
  dancers, flashy dressers, sexy girls, hot boys, DJs, dancers, photogr
 aphers, artists, fashionistas; gay/straight/bi/tri/whateva!\n\nThe par
 ty's goal is to make the room hot, sweaty, sticky and have it EXPLODE!
 \n\nBring your flashiest, trashiest, classiest, sexiest, craziest styl
 e; but bring an open mind, big smile, and shoes that will allow you to
  dance from opening to last call! We will start with fire and end with
  fire!\n\nTaking inspiration from the classic Dinosaur L. song\n\"I wa
 nna see all my friends at once\nI'll do anything to get a chance to\nG
 oooo BANG!\"\n\nLove,\n\nRebecca Watkins (ArtNowSF)\nSergio (KALX / Ki
 NkY BeAtS)\nStanley (Chilidog!)\nNicky B. (Gemini Disco / Ferrari Part
 y)\nEddy Bauer (KALX / Missouri Lounge)\nFlight (Gotsoul / Galaxy Grou
 p)\nStephen !YOU GUYS! (our lovely door bunny)\n\nThe previous Go BANG
 ! LIVE Mix\n\nDownload the FULL party mix\nMP3: http://www.sergioaudio
 .com/MP3/GoBANG-04-25-09-FULL.mp3\nM3U: http://www.sergioaudio.com/MP3
 /M3U/GoBANG-04-25-09-FULL.m3u\n\nIndividual mixes & setlist info HERE\
 n\n/>A GLIMPSE FROM LAST TIME...Go BANG! on MYSPACE:www.myspace.com/go
 bangmusicGo BANG! on FACEBOOK:www.facebook.com/group.php?gid=463766694
 21\n\nFor more information visit https://trueskool.com/events/go-bang-
 atomic-dancefloor-1
DTSTART;TZID=America/Los_Angeles:20090523T220000
DTEND;TZID=America/Los_Angeles:20090524T040000
CATEGORIES:disco, electro, funk, boogie, euro, italo
LOCATION:Deco Lounge, San Francisco
WEBSITE:http://www.facebook.com/group.php?gid=46376669421
URL:http://www.facebook.com/group.php?gid=46376669421
CONTACT:5107984908
ORGANIZER;CN=Sergio:https://trueskool.com/profile/Sergio
ATTACH;FMTTYPE="image/jpeg":
ATTENDEE;ROLE=REQ-PARTICIPANT;PARTSTAT=ACCEPTED;RSVP=TRUE;CN=Sergio:ht
 tps://trueskool.com/profile/Sergio
END:VEVENT
END:VCALENDAR
