BEGIN:VCALENDAR
PRODID:NingEventWidget-v1
VERSION:2.0
METHOD:PUBLISH
BEGIN:VTIMEZONE
TZID:America/Los_Angeles
X-LIC-LOCATION:America/Los_Angeles
BEGIN:DAYLIGHT
TZOFFSETFROM:-0800
TZOFFSETTO:-0700
TZNAME:PDT
DTSTART:19700308T020000
RRULE:FREQ=YEARLY;BYMONTH=3;BYDAY=2SU
END:DAYLIGHT
BEGIN:STANDARD
TZOFFSETFROM:-0700
TZOFFSETTO:-0800
TZNAME:PST
DTSTART:19701101T020000
RRULE:FREQ=YEARLY;BYMONTH=11;BYDAY=1SU
END:STANDARD
END:VTIMEZONE
BEGIN:VEVENT
UID:1464587:Event:30634
DTSTAMP:20260420T213051Z
SUMMARY:GimmeSomeBiz
DESCRIPTION:Saturday, May 2nd 2009\nLIVE @ The Rockit Room SF 406 Clem
 ent St (Between 5th & 6th)\n\nThe Rockit Room SF Presents:\nGimmeSomeD
 aps x Biz Markie = GimmeSomeBiz\n\n\nAs we re-introduce you to the art
  of \"Turning The Party Out\"\ncourtesy of The RockitRoomSF x Sarap x 
 Biz Markie\n\nLive Music, Deejays & People with special guest\nThe Dia
 bolical Biz Markie Deejaying a special 2 1/2 hour set along with impro
 ve BeatBoxing & Freestyles\n\n\n\nHosted by: Wonway\n\n2 floors of Rot
 ating Deejays:\nShawnDub\nMs. Watkins\ndjfooders\nSha_One\ndjAgent A\n
 MuddBird\nOwlBoogie\n\nDoors Open @ 9pm\nGeneral Admission $20 at The 
 Door\nLimited Discounted Presale Tickets Only Available @\nhttp://www.
 brownpapertickets.com/event/62169\n\nfor more event information visit\
 nwww.sarapsarap.com\n\nFor more information visit https://trueskool.co
 m/events/gimmesomebiz-1
DTSTART;TZID=America/Los_Angeles:20090502T210000
DTEND;TZID=America/Los_Angeles:20090503T020000
CATEGORIES:classic, hip, hop, "&", party, rocking
LOCATION:The Rockit RoomSF
WEBSITE:http://www.rock-it-room.com
URL:http://www.rock-it-room.com
CONTACT:415-387-6343
ORGANIZER:The Rockit RoomSF x Sarap Sarap
ATTACH;FMTTYPE="image/jpeg":http://storage.ning.com/topology/rest/1.0/
 file/get/2247856953?profile=original
ATTENDEE;ROLE=REQ-PARTICIPANT;PARTSTAT=ACCEPTED;RSVP=TRUE;CN=djfooders
 :https://trueskool.com/profile/djfooders
END:VEVENT
END:VCALENDAR
