BEGIN:VCALENDAR
PRODID:NingEventWidget-v1
VERSION:2.0
METHOD:PUBLISH
BEGIN:VTIMEZONE
TZID:America/Los_Angeles
X-LIC-LOCATION:America/Los_Angeles
BEGIN:DAYLIGHT
TZOFFSETFROM:-0800
TZOFFSETTO:-0700
TZNAME:PDT
DTSTART:19700308T020000
RRULE:FREQ=YEARLY;BYMONTH=3;BYDAY=2SU
END:DAYLIGHT
BEGIN:STANDARD
TZOFFSETFROM:-0700
TZOFFSETTO:-0800
TZNAME:PST
DTSTART:19701101T020000
RRULE:FREQ=YEARLY;BYMONTH=11;BYDAY=1SU
END:STANDARD
END:VTIMEZONE
BEGIN:VEVENT
UID:1464587:Event:68822
DTSTAMP:20260420T130505Z
SUMMARY:Gil Scott Heron
DESCRIPTION:CLICK HERE TO WIN A PAIR OF TICKETS:\nhttp://www.trueskool
 .com/group/wintickets\n\n\nFRIDAY-SATURDAY, NOV 5-6\nGIL SCOTT-HERON p
 roduced By Jill Newman Productions\n\nYoshi's Oakland, 510 Embarcadero
  West, Jack London Square, Oakland, CA 94607\n8PM/10PM: $28\n» BUY TI
 CKETS\n\nPoet, musician, activist, author, bluesologist. These are all
  terms that have been used to describe the great Gil Scott-Heron, who 
 more humbly refers to himself simply as a \"piano player from Tennesse
 e\". Most famous for his era-defining 1970's poem, \"The Revolution Wi
 ll Not Be Televised,\" Gil Scott-Heron’s politically charged materia
 l made him a stalwart figure in the 1970’s civil rights movement. Hi
 s lyrical content covered topics like the superficiality of television
  and mass consumerism, the hypocrisy of some would-be Black revolution
 aries, white middle-class ignorance of the difficulties faced by inner
 -city residents, and fear of homosexuals. Not only a pioneer of blues,
  jazz and funk, his honesty, matter-of-fact delivery and fearlessness 
 to address important social issues in the face of media criticism made
  him one of the foremost progenitors of contemporary hip-hop and spoke
 n word. Among countless other allusions and references, Public Enemy u
 sed the phrase “the revolution will not be televised” to open its 
 classic 1987 album It Takes a Nation of Millions to Hold Us Back and K
 anye West sampled Gil’s timeless “Home is Where the Hatred Is” o
 n the Common-supported “On My Way” from 2005’s Late Registration
 .\n\n \n\nFor more information visit https://trueskool.com/events/gil-
 scott-heron
DTSTART;TZID=America/Los_Angeles:20101105T200000
DTEND;TZID=America/Los_Angeles:20101107T000000
CATEGORIES:oakland, california
LOCATION:Yoshi's, Oakland, CA
WEBSITE:http://yoshis.inticketing.com/evlist.php?events=search&searchs
 tr=gil+scott
URL:http://yoshis.inticketing.com/evlist.php?events=search&searchstr=g
 il+scott
CONTACT:
ORGANIZER:Jill Newman Productions
ATTACH;FMTTYPE="image/jpeg":http://storage.ning.com/topology/rest/1.0/
 file/get/2247865459?profile=original
ATTENDEE;ROLE=REQ-PARTICIPANT;PARTSTAT=ACCEPTED;RSVP=TRUE;CN="Ren the 
 Vinyl Archaeologist":https://trueskool.com/profile/xh51jvilojur
ATTENDEE;ROLE=REQ-PARTICIPANT;PARTSTAT=ACCEPTED;RSVP=TRUE;CN="Araceli 
 Espinoza":https://trueskool.com/profile/verseofstyle
END:VEVENT
END:VCALENDAR
