BEGIN:VCALENDAR
PRODID:NingEventWidget-v1
VERSION:2.0
METHOD:PUBLISH
BEGIN:VTIMEZONE
TZID:America/Los_Angeles
X-LIC-LOCATION:America/Los_Angeles
BEGIN:DAYLIGHT
TZOFFSETFROM:-0800
TZOFFSETTO:-0700
TZNAME:PDT
DTSTART:19700308T020000
RRULE:FREQ=YEARLY;BYMONTH=3;BYDAY=2SU
END:DAYLIGHT
BEGIN:STANDARD
TZOFFSETFROM:-0700
TZOFFSETTO:-0800
TZNAME:PST
DTSTART:19701101T020000
RRULE:FREQ=YEARLY;BYMONTH=11;BYDAY=1SU
END:STANDARD
END:VTIMEZONE
BEGIN:VEVENT
UID:1464587:Event:667113
DTSTAMP:20260421T180148Z
SUMMARY:Gift of Gab FREE in Oakland
DESCRIPTION:-The purpose of this event is to promote healthy eating, l
 iving, and bring vitality back to Oakland by combining Bay Area non pr
 ofits with Bay Area independent artists.\n\n \n\nThis event is FREE, 
 all ages and starts at 6pm\n\n \n\n-For more detailed information con
 tact sugarfreedomproject.org\n\n \n\nLineup:\n\n \n\nGift of Gab of 
 Blackalicious\n\n-Z-man\n\n-Deuce Eclipse\n\n-Unlearn The World\n\n-Na
 nci Peral\n\n-Watzreal\n\n-Kaila Love\n-Just Dizz & Day Day RockStarTh
 ug of Beats Rhymes And Life\n\n\n\nFor more information visit https://
 trueskool.com/events/gift-of-gab-free-in-oakland
DTSTART;TZID=America/Los_Angeles:20170923T180000
DTEND;TZID=America/Los_Angeles:20170923T210000
CATEGORIES:oakland, "bay area", "east bay"
LOCATION:tassafaronga, Oakland, CA
WEBSITE:https://www.facebook.com/events/1461293807294774/?hc_location=
 ufi
URL:https://www.facebook.com/events/1461293807294774/?hc_location=ufi
CONTACT:
ORGANIZER:Watzreal
ATTACH;FMTTYPE="image/jpeg":http://storage.ning.com/topology/rest/1.0/
 file/get/2248000520?profile=original
ATTENDEE;ROLE=REQ-PARTICIPANT;PARTSTAT=ACCEPTED;RSVP=TRUE;CN="benjamin
  white":https://trueskool.com/profile/benjaminwhite
END:VEVENT
END:VCALENDAR
