BEGIN:VCALENDAR
PRODID:NingEventWidget-v1
VERSION:2.0
METHOD:PUBLISH
BEGIN:VTIMEZONE
TZID:America/Los_Angeles
X-LIC-LOCATION:America/Los_Angeles
BEGIN:DAYLIGHT
TZOFFSETFROM:-0800
TZOFFSETTO:-0700
TZNAME:PDT
DTSTART:19700308T020000
RRULE:FREQ=YEARLY;BYMONTH=3;BYDAY=2SU
END:DAYLIGHT
BEGIN:STANDARD
TZOFFSETFROM:-0700
TZOFFSETTO:-0800
TZNAME:PST
DTSTART:19701101T020000
RRULE:FREQ=YEARLY;BYMONTH=11;BYDAY=1SU
END:STANDARD
END:VTIMEZONE
BEGIN:VEVENT
UID:1464587:Event:39224
DTSTAMP:20260420T230141Z
SUMMARY:Ghostface Killah
DESCRIPTION:Ghostface Killah with special guests Souls Of Mischief\nFa
 shawn • Strong Arm Steady ...\n\nSlim's\n333 11th St\nSan Francisco,
  CA\n94103-4313, US\n(415) 255-0333\n9:00 PM ($26)\n\n\n\nFor more inf
 ormation visit https://trueskool.com/events/ghostface-killah
DTSTART;TZID=America/Los_Angeles:20091020T210000
DTEND;TZID=America/Los_Angeles:20091020T230000
CATEGORIES:hip, hop
LOCATION:Slim's, San Francisco, CA
WEBSITE:http://www.slims-sf.com/slims-bin/showcal?date=2009-10-20
URL:http://www.slims-sf.com/slims-bin/showcal?date=2009-10-20
CONTACT:
ORGANIZER:Slim's
ATTACH;FMTTYPE="image/jpeg":http://storage.ning.com/topology/rest/1.0/
 file/get/2247865192?profile=original
ATTENDEE;ROLE=REQ-PARTICIPANT;PARTSTAT=ACCEPTED;RSVP=TRUE;CN="Editor's
  Pick":https://trueskool.com/profile/RentheVinylArchaeologist
END:VEVENT
END:VCALENDAR
