BEGIN:VCALENDAR
PRODID:NingEventWidget-v1
VERSION:2.0
METHOD:PUBLISH
BEGIN:VTIMEZONE
TZID:America/Los_Angeles
X-LIC-LOCATION:America/Los_Angeles
BEGIN:DAYLIGHT
TZOFFSETFROM:-0800
TZOFFSETTO:-0700
TZNAME:PDT
DTSTART:19700308T020000
RRULE:FREQ=YEARLY;BYMONTH=3;BYDAY=2SU
END:DAYLIGHT
BEGIN:STANDARD
TZOFFSETFROM:-0700
TZOFFSETTO:-0800
TZNAME:PST
DTSTART:19701101T020000
RRULE:FREQ=YEARLY;BYMONTH=11;BYDAY=1SU
END:STANDARD
END:VTIMEZONE
BEGIN:VEVENT
UID:1464587:Event:66536
DTSTAMP:20260420T130818Z
SUMMARY:Ghostface Killah + Sheek Louch (of the Lox) + music by Frank D
 ukes at Slim's on Thurs. Nov. 11 - all ages!
DESCRIPTION:CLICK HERE TO WIN A PAIR OF TICKETS:\nhttp://www.trueskool
 .com/group/wintickets\n\nTHURSDAY, NOV 11\nSlim's presents\nGhostface 
 Killah\n\n@ Slims, 333 11th St., SF\nAll Ages, Doors 9pm.\nTix: http:/
 /www.slims-sf.com\n\nWho’s gonna take the weight? In these days and 
 times—the last days—for a multitude of reasons, this is the questi
 on at hand. And, if ever there was any doubt, the answer is, of course
 , none other than Ghostface Killah. Armed with his latest heat rock of
  an album, \"Ghostdini the Wizard of Poetry,\" the broad shouldered Gh
 ost stands ready and willing to carry the Wu Tang’s burden and retur
 n rap to it’s proper course.\n\nAnd who better to kick the truth to 
 the young black youth, than Ghost, an artist more universally accepted
  than American Express. “I know that niggas got love for me,” he s
 ays. “Where ever I go, up north, down south, out west, niggas show m
 e love, because they respect me as a true artist.\" In an industry of 
 swagger jackers and copy cats Ghost has always stood for integrity and
  innovation and his unique wordplay and unparalleled taste in beats ha
 s been demonstrated on each of his solo albums, as well as his contrib
 utions to the Wu Tang Clan albums, and perhaps most notably Raekwon’
 s lauded classic, \"Only Built For Cuban Linx.\" “It used to be all 
 about originality and flipping new words,” he says. “Now you got n
 iggas all using the same words, but I come from that Slick Rick era, t
 hat Biz Markie era when everybody had to sound different, so my sound 
 ain’t like anybody else.”\n\nIndeed, born and raised in Staten Isl
 and’s infamous Stapleton project, Ghost, born Dennis Coles 39 years 
 ago, has always been a pioneer, even within his own crew. Though it’
 s said that when Wu Tang Clan formed like Voltron in 1992 that RZA was
  the head, undoubtedly Ghostface was the body. “When RZA decided to 
 form the Wu Tang I was the one that knew everyone,” he says, “So I
  was the link that brought everyone together and that’s why I was an
  executive producer on 36 Chambers.” That album would go on to go 3 
 times platinum and change the face of rap music.\n\nWhile hip hop stay
 s an ever changing creative environment, over 15 years deep in the gam
 e Ghost remains one of the genre’s few immovable, revered creators. 
 As it always has, it’s this attention to detail which will set Ghost
 face apart as he puts rap on his back and, true to his superhero monik
 er, saves the day.\n\nFor more information visit https://trueskool.com
 /events/ghostface-killah-sheek-louch
DTSTART;TZID=America/Los_Angeles:20101111T210000
DTEND;TZID=America/Los_Angeles:20101111T233000
CATEGORIES:san, francisco, ca
LOCATION:Slim's, San Francisco, CA
WEBSITE:http://www.slims-sf.com
URL:http://www.slims-sf.com
CONTACT:(415) 255-0333
ORGANIZER;CN=Tracey:https://trueskool.com/profile/Tracey
ATTACH;FMTTYPE="image/jpeg":http://storage.ning.com/topology/rest/1.0/
 file/get/2247865192?profile=original
ATTENDEE;ROLE=REQ-PARTICIPANT;PARTSTAT=ACCEPTED;RSVP=TRUE;CN=Tracey:ht
 tps://trueskool.com/profile/Tracey
END:VEVENT
END:VCALENDAR
