BEGIN:VCALENDAR
PRODID:NingEventWidget-v1
VERSION:2.0
METHOD:PUBLISH
BEGIN:VTIMEZONE
TZID:America/Los_Angeles
X-LIC-LOCATION:America/Los_Angeles
BEGIN:DAYLIGHT
TZOFFSETFROM:-0800
TZOFFSETTO:-0700
TZNAME:PDT
DTSTART:19700308T020000
RRULE:FREQ=YEARLY;BYMONTH=3;BYDAY=2SU
END:DAYLIGHT
BEGIN:STANDARD
TZOFFSETFROM:-0700
TZOFFSETTO:-0800
TZNAME:PST
DTSTART:19701101T020000
RRULE:FREQ=YEARLY;BYMONTH=11;BYDAY=1SU
END:STANDARD
END:VTIMEZONE
BEGIN:VEVENT
UID:1464587:Event:31702
DTSTAMP:20260421T202007Z
SUMMARY:Gett OFF!
DESCRIPTION:Gett OFF - 23 positions in a one night stand! Come join us
  as we gett down to the beat. Please RSVP first and last names to Gett
 Off.SF@gmail.com - for FREE admission before 11PM.\n\nTwo rooms for yo
 u to Gett OFF in!!\n\nHIP-HOP Room // NeoSoul & Classics\n\nEROCK707 (
 Livemixshow)\nBIZIBEATZ (Co-Lab)\nand DJ NEOGEO (The Formula)\n\nHOUSE
  Room // Deep & Soulful\n\nBRIAN CABALIC (iLoveHouseMusic)\nERIC MANAN
 ZAN (Cardiff)\nand GEORGE DESOUL (Passport)\n\nBottle Service Availabl
 e:\nvip@circolosf.com\nor call Vana @ 415-553-8560\n\nFly-Attire\nAmpl
 e Street Parking Available\n$10 @ Door Only\n21+ Event\n\nWeb:\niloveh
 ousemusic.com\ndiveradio.com\nbuddhapparel.com\nlivemixshow.com\ngeorg
 edesoul.com\ntheformuladjs.com\n\nFor more information visit https://t
 rueskool.com/events/gett-off
DTSTART;TZID=America/Los_Angeles:20090508T223000
DTEND;TZID=America/Los_Angeles:20090509T030000
CATEGORIES:hip-hop, soul, and, house
LOCATION:Circolo, San Francisco, CA
WEBSITE:http://www.circolosf.com
URL:http://www.circolosf.com
CONTACT:415-553-8560
ORGANIZER;CN=SeLaV:https://trueskool.com/profile/SeLaV
ATTACH;FMTTYPE="image/jpeg":http://storage.ning.com/topology/rest/1.0/
 file/get/2247856597?profile=original
ATTENDEE;ROLE=REQ-PARTICIPANT;PARTSTAT=ACCEPTED;RSVP=TRUE;CN=SeLaV:htt
 ps://trueskool.com/profile/SeLaV
END:VEVENT
END:VCALENDAR
