BEGIN:VCALENDAR
PRODID:NingEventWidget-v1
VERSION:2.0
METHOD:PUBLISH
BEGIN:VTIMEZONE
TZID:America/Los_Angeles
X-LIC-LOCATION:America/Los_Angeles
BEGIN:DAYLIGHT
TZOFFSETFROM:-0800
TZOFFSETTO:-0700
TZNAME:PDT
DTSTART:19700308T020000
RRULE:FREQ=YEARLY;BYMONTH=3;BYDAY=2SU
END:DAYLIGHT
BEGIN:STANDARD
TZOFFSETFROM:-0700
TZOFFSETTO:-0800
TZNAME:PST
DTSTART:19701101T020000
RRULE:FREQ=YEARLY;BYMONTH=11;BYDAY=1SU
END:STANDARD
END:VTIMEZONE
BEGIN:VEVENT
UID:1464587:Event:64634
DTSTAMP:20260420T200137Z
SUMMARY:GET THE F@#K UP! The Virgo Birthday Bash
DESCRIPTION:Celebrating the Birthdays of THOMAS, JESSICA, ERIKITA & LI
 Z\n\nDJS:: MIKE NICE • RAF_ONE\nHip Hop/Dancehall/R&B/Soul/Ol Skool 
 Slaps/Sweat Nasty Funk\n\nSPECIAL PERFORMANCES FROM:\nP.E.A.C.E. of Fr
 eestyle Fellowship\nCOLD SHOWDA, CHARLES COOPER & UNJUST of Chosen Few
  & Greans\n\n21+ / FREE B4 10:30pm - $10 after\n\nFREE Chicken Wings, 
 Smack n Cheese, Dirty Rice\nfrom SLAP DA TASTE IN YA MOUTH!\n\nFor mor
 e information visit https://trueskool.com/events/get-the-fk-up-the-vir
 go
DTSTART;TZID=America/Los_Angeles:20100827T180000
DTEND;TZID=America/Los_Angeles:20100828T020000
CATEGORIES:san, francisco, ca
LOCATION:The Dark Room (Club Six),
WEBSITE:
URL:
CONTACT:
ORGANIZER;CN="Thomas Watts":https://trueskool.com/profile/ThomasWatts
ATTACH;FMTTYPE="image/jpeg":http://storage.ning.com/topology/rest/1.0/
 file/get/2247882942?profile=original
ATTENDEE;ROLE=REQ-PARTICIPANT;PARTSTAT=ACCEPTED;RSVP=TRUE;CN="Thomas W
 atts":https://trueskool.com/profile/ThomasWatts
END:VEVENT
END:VCALENDAR
