BEGIN:VCALENDAR
PRODID:NingEventWidget-v1
VERSION:2.0
METHOD:PUBLISH
BEGIN:VTIMEZONE
TZID:America/Los_Angeles
X-LIC-LOCATION:America/Los_Angeles
BEGIN:DAYLIGHT
TZOFFSETFROM:-0800
TZOFFSETTO:-0700
TZNAME:PDT
DTSTART:19700308T020000
RRULE:FREQ=YEARLY;BYMONTH=3;BYDAY=2SU
END:DAYLIGHT
BEGIN:STANDARD
TZOFFSETFROM:-0700
TZOFFSETTO:-0800
TZNAME:PST
DTSTART:19701101T020000
RRULE:FREQ=YEARLY;BYMONTH=11;BYDAY=1SU
END:STANDARD
END:VTIMEZONE
BEGIN:VEVENT
UID:1464587:Event:38826
DTSTAMP:20260421T065949Z
SUMMARY:GET THE F#@K UP!!! THE 10TH ANNUAL VIRGO BIRTHDAY PARTY
DESCRIPTION:ANUTHA PROFUNKSHUN PRESENTS...\n\nYes, once again, it's ti
 me for anutha Virgo Freak-Nasty Party. THOMAS, JESSICA and their fello
 w Virgos will be celebrating their first day of butt-nakedness on this
  momentous occasion. This year is the BIG 4-0 for Thomas. Yes, you rea
 d that right! So THIS is the b-day party you must attend.\n\nUNDERGROU
 ND HIP HOP - NEO SOUL - R&B - DANCEHALL - SOUL\n\nconfirmed DJs:\nDJ T
 OPH\nDJ MR. E [rockin an 80s set]\nDJ MIKE NICE [rockin a 90s set]\n\n
 on the mic:\nPHAME aka Mr. PHAMA\n\nFREE FOOD PROVIDED BY THOMAS'\n\"S
 LAP DA TASTE IN YA MOUTH\" CATERING\n\nDRESS CODE- LADIES: ERYKAH BADU
  GENTS: COMMON\nNO GYM CLOTHES!!! KICKS OK.\n\nFor more information vi
 sit https://trueskool.com/events/get-the-fk-up-the-10th-annual
DTSTART;TZID=America/Los_Angeles:20090829T220000
DTEND;TZID=America/Los_Angeles:20090830T020000
CATEGORIES:hip, hop, dancehall, reggae, "r&b", old, school, funk
LOCATION:111 Minna Street Gallery
WEBSITE:
URL:
CONTACT:http://www.facebook.com/event.php?eid=120362530473&ref=mf
ORGANIZER;CN="Thomas Watts":https://trueskool.com/profile/ThomasWatts
ATTACH;FMTTYPE="image/jpeg":http://storage.ning.com/topology/rest/1.0/
 file/get/2247860472?profile=original
ATTENDEE;ROLE=REQ-PARTICIPANT;PARTSTAT=ACCEPTED;RSVP=TRUE;CN="DJ MR.E"
 :https://trueskool.com/profile/DJMRE
ATTENDEE;ROLE=REQ-PARTICIPANT;PARTSTAT=ACCEPTED;RSVP=TRUE;CN="Thomas W
 atts":https://trueskool.com/profile/ThomasWatts
END:VEVENT
END:VCALENDAR
