BEGIN:VCALENDAR
PRODID:NingEventWidget-v1
VERSION:2.0
METHOD:PUBLISH
BEGIN:VTIMEZONE
TZID:America/Los_Angeles
X-LIC-LOCATION:America/Los_Angeles
BEGIN:DAYLIGHT
TZOFFSETFROM:-0800
TZOFFSETTO:-0700
TZNAME:PDT
DTSTART:19700308T020000
RRULE:FREQ=YEARLY;BYMONTH=3;BYDAY=2SU
END:DAYLIGHT
BEGIN:STANDARD
TZOFFSETFROM:-0700
TZOFFSETTO:-0800
TZNAME:PST
DTSTART:19701101T020000
RRULE:FREQ=YEARLY;BYMONTH=11;BYDAY=1SU
END:STANDARD
END:VTIMEZONE
BEGIN:VEVENT
UID:1464587:Event:31744
DTSTAMP:20260421T022326Z
SUMMARY:GET IT IN! feat. DJ Rhettmatic (Beat Junkies)
DESCRIPTION:SATURDAY, MAY 2\nMR.E presents...\nGET IT IN! (Every 1st S
 aturday of the Month)\n\n\nFeaturing:\nDJ RHETTMATIC (Beat Junkie Soun
 d)\nKING MOST (Plug Label)\nSHRED ONE (Brooklyn Circus)\n\nplus reside
 nt\nDJ MR.E (Papalote Hi-Fi)\n\nhosted by FRAN BOOGIE\n\n@ Poleng, 175
 1 Fulton St., San Francisco\nParking Garage across the street\n21 n up
  | 10-2 | guestlist : dajointsf@hotmail.com\nFREE WITH FLYER B4 10:30\
 n\nFor more information visit https://trueskool.com/events/get-it-in-f
 eat-dj-rhettmatic
DTSTART;TZID=America/Los_Angeles:20090502T220000
DTEND;TZID=America/Los_Angeles:20090503T020000
CATEGORIES:hip, hop, soul, funk, old, school, turntablism
LOCATION:Poleng Lounge, San Francisco, CA
WEBSITE:http://www.polenglounge.com
URL:http://www.polenglounge.com
CONTACT:
ORGANIZER:Mr. E
ATTACH;FMTTYPE="image/jpeg":http://storage.ning.com/topology/rest/1.0/
 file/get/2247857240?profile=original
ATTENDEE;ROLE=REQ-PARTICIPANT;PARTSTAT=ACCEPTED;RSVP=TRUE;CN="Editor's
  Pick":https://trueskool.com/profile/RentheVinylArchaeologist
END:VEVENT
END:VCALENDAR
