BEGIN:VCALENDAR
PRODID:NingEventWidget-v1
VERSION:2.0
METHOD:PUBLISH
BEGIN:VTIMEZONE
TZID:America/Los_Angeles
X-LIC-LOCATION:America/Los_Angeles
BEGIN:DAYLIGHT
TZOFFSETFROM:-0800
TZOFFSETTO:-0700
TZNAME:PDT
DTSTART:19700308T020000
RRULE:FREQ=YEARLY;BYMONTH=3;BYDAY=2SU
END:DAYLIGHT
BEGIN:STANDARD
TZOFFSETFROM:-0700
TZOFFSETTO:-0800
TZNAME:PST
DTSTART:19701101T020000
RRULE:FREQ=YEARLY;BYMONTH=11;BYDAY=1SU
END:STANDARD
END:VTIMEZONE
BEGIN:VEVENT
UID:1464587:Event:656725
DTSTAMP:20260422T121840Z
SUMMARY:GET FREE: House Dance Festival Celebration w/ DJ Cecil & Tomah
 awk Bang
DESCRIPTION:SKIN & House Dance Festival Present: “GET FREE”Come G
 ET FREE with us on Friday, December 16th at Oakland’s historic Uptow
 n Nightclub as we celebrate movement rooted in American Club Dance Cul
 ture; from the ritual to the free form, from the synchronized to the r
 hapsodical, we'll bring the fullness of who we are and dance for life,
  as we have for centuries. Featuring: DJ Cecil (skin / thePeople) T
 omahawk Bang (SourPatch / SoulShifters) Performances By: Just JamzGe
 hrik MohrRobyn Baltzer & Bay Area New Style HustlersHouse of EnergiAnd
  More TBA! Hosted By: Ms. Candi & Tsunami The Uptown Nightclub 192
 8 Telegraph Ave. Oakland, USA 8pm - 2am / 21+ FREE w/ RSVP: oaklan
 dgetfree.brownpapertickets.com Made possible by the generosity of the
  House Dance Festival. To learn more or donate: http://www.housedanc
 efestival.com/\n\nFor more information visit https://trueskool.com/eve
 nts/get-free-house-dance-festival-celebration-w-dj-cecil-tomahawk
DTSTART;TZID=America/Los_Angeles:20161216T200000
DTEND;TZID=America/Los_Angeles:20161217T020000
CATEGORIES:uptown, oakland, downtown, east, bay, area, northern, cali,
  california, yay, oaktown, the, town
LOCATION:The Uptown
WEBSITE:http://oaklandgetfree.brownpapertickets.com
URL:http://oaklandgetfree.brownpapertickets.com
CONTACT:
ORGANIZER;CN="miss candi":https://trueskool.com/profile/misscandi
ATTACH;FMTTYPE="image/jpeg":http://storage.ning.com/topology/rest/1.0/
 file/get/2247998227?profile=original
ATTENDEE;ROLE=REQ-PARTICIPANT;PARTSTAT=ACCEPTED;RSVP=TRUE;CN="miss can
 di":https://trueskool.com/profile/misscandi
END:VEVENT
END:VCALENDAR
