BEGIN:VCALENDAR
PRODID:NingEventWidget-v1
VERSION:2.0
METHOD:PUBLISH
BEGIN:VTIMEZONE
TZID:America/Los_Angeles
X-LIC-LOCATION:America/Los_Angeles
BEGIN:DAYLIGHT
TZOFFSETFROM:-0800
TZOFFSETTO:-0700
TZNAME:PDT
DTSTART:19700308T020000
RRULE:FREQ=YEARLY;BYMONTH=3;BYDAY=2SU
END:DAYLIGHT
BEGIN:STANDARD
TZOFFSETFROM:-0700
TZOFFSETTO:-0800
TZNAME:PST
DTSTART:19701101T020000
RRULE:FREQ=YEARLY;BYMONTH=11;BYDAY=1SU
END:STANDARD
END:VTIMEZONE
BEGIN:VEVENT
UID:1464587:Event:811106
DTSTAMP:20260421T153751Z
SUMMARY:Get Down 4 A Cause
DESCRIPTION:\r\nSATURDAY, SEPT 10\r\nGet Down 4 A CauseBenefit for Non
 -Profit Beats4Hope\r\nSounds by: Mind Motion, Chuy Gomez, Jose Melende
 z, DJ Jay Byrd, DJ Livv, DJ360, Planet33rs\r\n@ Myth Lounge, 152 Post 
 Street, San Jose\r\n12pm-8pm. $10. 21+\r\n>> BUY TICKETSABOUT\r\nThis 
 benefit “Get Down” supports the work of Beats 4 Hope, Second Harve
 st Food Band of Silicon Valley and the Samaritan House in San Mateo, C
 A. Beats 4 Hope is a volunteer non profit that is deep in the music cu
 lture and provides a unique platform for the music community to unite 
 for a cause. They raise awareness and funds for non-profits or a commu
 nity cause in need in the areas of Arts and Humanities. Beats 4 Hope i
 s a collective of like minded individuals who love music and give back
  to their communities. To see the social impact visit Beats 4 Hope.Com
 e make new friends, meet some of the hottest West Coast DJs, win prize
 s, eat, drink and dance the day away! We are also supporting the effor
 ts of The Second Harvest Food Bank of Silicon Valley and and The Samar
 itan House.\n\nFor more information visit https://trueskool.com/events
 /get-down-4-a-cause
DTSTART;TZID=America/Los_Angeles:20220910T120000
DTEND;TZID=America/Los_Angeles:20220910T200000
CATEGORIES:"bay area", "san jose"
LOCATION:Myth Lounge, San Joe, CA
WEBSITE:https://www.eventbrite.com/e/get-down-4-a-cause-benefit-ticket
 s-386615195457
URL:https://www.eventbrite.com/e/get-down-4-a-cause-benefit-tickets-38
 6615195457
CONTACT:
ORGANIZER:Beats4Hope
ATTACH;FMTTYPE="image/jpeg":https://storage.ning.com/topology/rest/1.0
 /file/get/10796735266?profile=original
ATTENDEE;ROLE=REQ-PARTICIPANT;PARTSTAT=ACCEPTED;RSVP=TRUE;CN="Editor's
  Pick":https://trueskool.com/profile/RentheVinylArchaeologist
END:VEVENT
END:VCALENDAR
