BEGIN:VCALENDAR
PRODID:NingEventWidget-v1
VERSION:2.0
METHOD:PUBLISH
BEGIN:VTIMEZONE
TZID:America/Los_Angeles
X-LIC-LOCATION:America/Los_Angeles
BEGIN:DAYLIGHT
TZOFFSETFROM:-0800
TZOFFSETTO:-0700
TZNAME:PDT
DTSTART:19700308T020000
RRULE:FREQ=YEARLY;BYMONTH=3;BYDAY=2SU
END:DAYLIGHT
BEGIN:STANDARD
TZOFFSETFROM:-0700
TZOFFSETTO:-0800
TZNAME:PST
DTSTART:19701101T020000
RRULE:FREQ=YEARLY;BYMONTH=11;BYDAY=1SU
END:STANDARD
END:VTIMEZONE
BEGIN:VEVENT
UID:1464587:Event:672015
DTSTAMP:20260421T150817Z
SUMMARY:Georgia Anne Muldrow (CANCELLED)
DESCRIPTION: WEDNESDAY, FEB 14 GEORGIA ANNE MULDROW (CANCELLED) WITH S
 PECIAL GUEST DECLAIME & FRIENDS\r\n@ Cornerstone, 2367 Shattuck Ave. (
 Enter on Durant), Berkeley  DOORS: 7:30 PM / SHOW: 8:30 PM This event 
 is all ages >> BUY TICKETS\r\n\r\n\r\n\n\nFor more information visit h
 ttps://trueskool.com/events/georgia-anne-muldrow-win-tickets
DTSTART;TZID=America/Los_Angeles:20180214T193000
DTEND;TZID=America/Los_Angeles:20180214T230000
CATEGORIES:"bay area", berkeley
LOCATION:Cornerstone, Berkeley
WEBSITE:https://www.ticketfly.com/purchase/event/1614429?_ga=2.8043676
 6.889154089.1515012935-797439282.1515012934
URL:https://www.ticketfly.com/purchase/event/1614429?_ga=2.80436766.88
 9154089.1515012935-797439282.1515012934
CONTACT:
ORGANIZER:Cornerstone
ATTACH;FMTTYPE="image/jpeg":http://storage.ning.com/topology/rest/1.0/
 file/get/2248003423?profile=original
ATTENDEE;ROLE=REQ-PARTICIPANT;PARTSTAT=ACCEPTED;RSVP=TRUE;CN="Editor's
  Pick":https://trueskool.com/profile/RentheVinylArchaeologist
END:VEVENT
END:VCALENDAR
