BEGIN:VCALENDAR
PRODID:NingEventWidget-v1
VERSION:2.0
METHOD:PUBLISH
BEGIN:VTIMEZONE
TZID:America/Los_Angeles
X-LIC-LOCATION:America/Los_Angeles
BEGIN:DAYLIGHT
TZOFFSETFROM:-0800
TZOFFSETTO:-0700
TZNAME:PDT
DTSTART:19700308T020000
RRULE:FREQ=YEARLY;BYMONTH=3;BYDAY=2SU
END:DAYLIGHT
BEGIN:STANDARD
TZOFFSETFROM:-0700
TZOFFSETTO:-0800
TZNAME:PST
DTSTART:19701101T020000
RRULE:FREQ=YEARLY;BYMONTH=11;BYDAY=1SU
END:STANDARD
END:VTIMEZONE
BEGIN:VEVENT
UID:1464587:Event:267711
DTSTAMP:20260421T022534Z
SUMMARY:George Lopez
DESCRIPTION:George Lopez\nSaturday December 28, 2013\nSPECS\n\nParamou
 nt Theatre\nOakland, CA\nShow time: 8:00pm\nDoor time: 7:00pm\nAge: Al
 l Ages+\n\n\nTICKETS\n\nTickets Available: Friday October 18, 2013\n$4
 2.50 - $66.50*\n* Service and/or handling fees are added to the price 
 of each ticket.\n\n\n\nFor more information visit https://trueskool.co
 m/events/george-lopez-saturday-december-28-2013
DTSTART;TZID=America/Los_Angeles:20131228T200000
DTEND;TZID=America/Los_Angeles:20131228T230000
CATEGORIES:"san francisco"
LOCATION:The Paramount, Oakland
WEBSITE:http://http://www.ticketmaster.com/event/1C004B3AE7ACA9FA?bran
 d=goldenvoice
URL:http://http://www.ticketmaster.com/event/1C004B3AE7ACA9FA?brand=go
 ldenvoice
CONTACT:
ORGANIZER;CN="Editor's Pick":https://trueskool.com/profile/RentheVinyl
 Archaeologist
ATTACH;FMTTYPE="image/jpeg":http://storage.ning.com/topology/rest/1.0/
 file/get/2247954476?profile=original
ATTENDEE;ROLE=REQ-PARTICIPANT;PARTSTAT=ACCEPTED;RSVP=TRUE;CN="Editor's
  Pick":https://trueskool.com/profile/RentheVinylArchaeologist
END:VEVENT
END:VCALENDAR
