BEGIN:VCALENDAR
PRODID:NingEventWidget-v1
VERSION:2.0
METHOD:PUBLISH
BEGIN:VTIMEZONE
TZID:America/Los_Angeles
X-LIC-LOCATION:America/Los_Angeles
BEGIN:DAYLIGHT
TZOFFSETFROM:-0800
TZOFFSETTO:-0700
TZNAME:PDT
DTSTART:19700308T020000
RRULE:FREQ=YEARLY;BYMONTH=3;BYDAY=2SU
END:DAYLIGHT
BEGIN:STANDARD
TZOFFSETFROM:-0700
TZOFFSETTO:-0800
TZNAME:PST
DTSTART:19701101T020000
RRULE:FREQ=YEARLY;BYMONTH=11;BYDAY=1SU
END:STANDARD
END:VTIMEZONE
BEGIN:VEVENT
UID:1464587:Event:68980
DTSTAMP:20260421T050657Z
SUMMARY:George Clinton & The Parliament-Funkadelic All-Stars
DESCRIPTION:George Clinton & The Parliament-Funkadelic All-Stars\n\nB.
 B. King Blues Club and Grill\n237 West 42nd Street, New York, NY 10036
 \nFri, 12/03/10\n08:00 PM\nFind Tickets\n \n\nFor more information vis
 it https://trueskool.com/events/george-clinton-the
DTSTART;TZID=America/Los_Angeles:20101203T200000
DTEND;TZID=America/Los_Angeles:20101203T230000
CATEGORIES:new, york, ny
LOCATION:B.B. King Blues Club and Grill
WEBSITE:http://www.ticketmaster.com/event/0000454494AD51EF?artistid=76
 8058&majorcatid=10001&minorcatid=3
URL:http://www.ticketmaster.com/event/0000454494AD51EF?artistid=768058
 &majorcatid=10001&minorcatid=3
CONTACT:
ORGANIZER:B.B. King Blues Club and Grill
ATTACH;FMTTYPE="image/jpeg":http://storage.ning.com/topology/rest/1.0/
 file/get/2247859263?profile=original
ATTENDEE;ROLE=REQ-PARTICIPANT;PARTSTAT=ACCEPTED;RSVP=TRUE;CN="Editor's
  Pick":https://trueskool.com/profile/RentheVinylArchaeologist
END:VEVENT
END:VCALENDAR
